Workbook

Sheet Zusammenfassung
A1: Ausschusskosten – Zusammenfassung
A3: Bericht von | B3: =IF(Auswertung!B3="","",Auswertung!B3) | D3: Bericht bis | E3: =IF(Auswertung!B4="","",Auswertung!B4)
A5: Kennzahl | B5: Wert | D5: Prioritätshinweis | E5: Ergebnis
A6: Gesamtkosten | B6: =IF(Auswertung!B7="","",Auswertung!B7) | D6: Kostenstärkste Ursache | E6: =IF(MAX(Auswertung!$C$13:$C$27)=0,"",INDEX(Auswertung!$A$13:$A$27,MATCH(MAX(Auswertung!$C$13:$C$27),Auswertung!$C$13:$C$27,0)))
A7: Vollständige Vorgänge | B7: =IF(Auswertung!B8="","",Auswertung!B8) | D7: Kosten dieser Ursache | E7: =IF(MAX(Auswertung!$C$13:$C$27)=0,"",MAX(Auswertung!$C$13:$C$27))
A8: Durchschnitt je Vorgang | B8: =IF(Auswertung!B9="","",Auswertung!B9)
D9: Kostenstärkstes Produkt | E9: =IF(MAX(Auswertung!$H$13:$H$32)=0,"",INDEX(Auswertung!$E$13:$E$32,MATCH(MAX(Auswertung!$H$13:$H$32),Auswertung!$H$13:$H$32,0)))
D10: Produktbezeichnung | E10: =IF(E9="","",IFERROR(_xlfn.XLOOKUP(E9,Stammdaten!$A$8:$A$27,Stammdaten!$B$8:$B$27),"Nicht gefunden"))
D11: Kosten dieses Produkts | E11: =IF(MAX(Auswertung!$H$13:$H$32)=0,"",MAX(Auswertung!$H$13:$H$32))
A13: Nutzungshinweis | B13: Den Berichtszeitraum im Blatt „Auswertung“ ändern. Priorisiert werden Produkte und Ursachen mit den höchsten endgültigen Ausschusskosten.
A14: Abgrenzung | B14: Nacharbeit, Qualitätsprüfungen, Produktionsmengen, Buchungen und Maßnahmenverfolgung sind nicht Bestandteil dieser Arbeitsmappe.

Sheet Erfassung
A1: Datum | B1: Periode | C1: Produktcode | D1: Produktbezeichnung | E1: Ausschussursache | F1: Ausschussmenge | G1: Einheit | H1: Standardkosten je Einheit | I1: Abweichende Bewertungskosten je Einheit | J1: Zusatzkosten | K1: Ausschusskosten gesamt | L1: Hinweis | M1: =Stammdaten!$B$3
A2: 46030 | B2: =IF(A2="","",DATE(YEAR(A2),MONTH(A2),1)) | C2: PR-001 | D2: =IF(C2="","",IFERROR(_xlfn.XLOOKUP(C2,Stammdaten!$A$8:$A$27,Stammdaten!$B$8:$B$27),"Nicht gefunden")) | E2: Materialfehler | F2: 12 | G2: =IF(C2="","",IFERROR(_xlfn.XLOOKUP(C2,Stammdaten!$A$8:$A$27,Stammdaten!$C$8:$C$27),"Nicht gefunden")) | H2: =IF(C2="","",IFERROR(_xlfn.XLOOKUP(C2,Stammdaten!$A$8:$A$27,Stammdaten!$D$8:$D$27),"")) | J2: 15 | K2: =IF(OR(A2="",C2="",E2="",F2="",AND(I2="",H2="")),"",IFERROR(F2*IF(I2="",H2,I2)+IF(J2="",0,J2),"")) | L2: Fiktives Beispiel 01
A3: 46049 | B3: =IF(A3="","",DATE(YEAR(A3),MONTH(A3),1)) | C3: PR-002 | D3: =IF(C3="","",IFERROR(_xlfn.XLOOKUP(C3,Stammdaten!$A$8:$A$27,Stammdaten!$B$8:$B$27),"Nicht gefunden")) | E3: Maßabweichung | F3: 5 | G3: =IF(C3="","",IFERROR(_xlfn.XLOOKUP(C3,Stammdaten!$A$8:$A$27,Stammdaten!$C$8:$C$27),"Nicht gefunden")) | H3: =IF(C3="","",IFERROR(_xlfn.XLOOKUP(C3,Stammdaten!$A$8:$A$27,Stammdaten!$D$8:$D$27),"")) | I3: 19.5 | K3: =IF(OR(A3="",C3="",E3="",F3="",AND(I3="",H3="")),"",IFERROR(F3*IF(I3="",H3,I3)+IF(J3="",0,J3),"")) | L3: Fiktives Beispiel 02
A4: 46067 | B4: =IF(A4="","",DATE(YEAR(A4),MONTH(A4),1)) | C4: PR-003 | D4: =IF(C4="","",IFERROR(_xlfn.XLOOKUP(C4,Stammdaten!$A$8:$A$27,Stammdaten!$B$8:$B$27),"Nicht gefunden")) | E4: Oberflächenfehler | F4: 18 | G4: =IF(C4="","",IFERROR(_xlfn.XLOOKUP(C4,Stammdaten!$A$8:$A$27,Stammdaten!$C$8:$C$27),"Nicht gefunden")) | H4: =IF(C4="","",IFERROR(_xlfn.XLOOKUP(C4,Stammdaten!$A$8:$A$27,Stammdaten!$D$8:$D$27),"")) | J4: 8 | K4: =IF(OR(A4="",C4="",E4="",F4="",AND(I4="",H4="")),"",IFERROR(F4*IF(I4="",H4,I4)+IF(J4="",0,J4),"")) | L4: Fiktives Beispiel 03
A5: 46090 | B5: =IF(A5="","",DATE(YEAR(A5),MONTH(A5),1)) | C5: PR-004 | D5: =IF(C5="","",IFERROR(_xlfn.XLOOKUP(C5,Stammdaten!$A$8:$A$27,Stammdaten!$B$8:$B$27),"Nicht gefunden")) | E5: Bearbeitungsfehler | F5: 7 | G5: =IF(C5="","",IFERROR(_xlfn.XLOOKUP(C5,Stammdaten!$A$8:$A$27,Stammdaten!$C$8:$C$27),"Nicht gefunden")) | H5: =IF(C5="","",IFERROR(_xlfn.XLOOKUP(C5,Stammdaten!$A$8:$A$27,Stammdaten!$D$8:$D$27),"")) | K5: =IF(OR(A5="",C5="",E5="",F5="",AND(I5="",H5="")),"",IFERROR(F5*IF(I5="",H5,I5)+IF(J5="",0,J5),"")) | L5: Fiktives Beispiel 04
A6: 46130 | B6: =IF(A6="","",DATE(YEAR(A6),MONTH(A6),1)) | C6: PR-001 | D6: =IF(C6="","",IFERROR(_xlfn.XLOOKUP(C6,Stammdaten!$A$8:$A$27,Stammdaten!$B$8:$B$27),"Nicht gefunden")) | E6: Beschädigung | F6: 3 | G6: =IF(C6="","",IFERROR(_xlfn.XLOOKUP(C6,Stammdaten!$A$8:$A$27,Stammdaten!$C$8:$C$27),"Nicht gefunden")) | H6: =IF(C6="","",IFERROR(_xlfn.XLOOKUP(C6,Stammdaten!$A$8:$A$27,Stammdaten!$D$8:$D$27),"")) | J6: 20 | K6: =IF(OR(A6="",C6="",E6="",F6="",AND(I6="",H6="")),"",IFERROR(F6*IF(I6="",H6,I6)+IF(J6="",0,J6),"")) | L6: Fiktives Beispiel 05
A7: 46148 | B7: =IF(A7="","",DATE(YEAR(A7),MONTH(A7),1)) | C7: PR-002 | D7: =IF(C7="","",IFERROR(_xlfn.XLOOKUP(C7,Stammdaten!$A$8:$A$27,Stammdaten!$B$8:$B$27),"Nicht gefunden")) | E7: Materialfehler | F7: 9 | G7: =IF(C7="","",IFERROR(_xlfn.XLOOKUP(C7,Stammdaten!$A$8:$A$27,Stammdaten!$C$8:$C$27),"Nicht gefunden")) | H7: =IF(C7="","",IFERROR(_xlfn.XLOOKUP(C7,Stammdaten!$A$8:$A$27,Stammdaten!$D$8:$D$27),"")) | K7: =IF(OR(A7="",C7="",E7="",F7="",AND(I7="",H7="")),"",IFERROR(F7*IF(I7="",H7,I7)+IF(J7="",0,J7),"")) | L7: Fiktives Beispiel 06
A8: 46184 | B8: =IF(A8="","",DATE(YEAR(A8),MONTH(A8),1)) | C8: PR-003 | D8: =IF(C8="","",IFERROR(_xlfn.XLOOKUP(C8,Stammdaten!$A$8:$A$27,Stammdaten!$B$8:$B$27),"Nicht gefunden")) | E8: Maßabweichung | F8: 14 | G8: =IF(C8="","",IFERROR(_xlfn.XLOOKUP(C8,Stammdaten!$A$8:$A$27,Stammdaten!$C$8:$C$27),"Nicht gefunden")) | H8: =IF(C8="","",IFERROR(_xlfn.XLOOKUP(C8,Stammdaten!$A$8:$A$27,Stammdaten!$D$8:$D$27),"")) | I8: 8.1 | K8: =IF(OR(A8="",C8="",E8="",F8="",AND(I8="",H8="")),"",IFERROR(F8*IF(I8="",H8,I8)+IF(J8="",0,J8),"")) | L8: Fiktives Beispiel 07
A9: 46205 | B9: =IF(A9="","",DATE(YEAR(A9),MONTH(A9),1)) | C9: PR-004 | D9: =IF(C9="","",IFERROR(_xlfn.XLOOKUP(C9,Stammdaten!$A$8:$A$27,Stammdaten!$B$8:$B$27),"Nicht gefunden")) | E9: Oberflächenfehler | F9: 6 | G9: =IF(C9="","",IFERROR(_xlfn.XLOOKUP(C9,Stammdaten!$A$8:$A$27,Stammdaten!$C$8:$C$27),"Nicht gefunden")) | H9: =IF(C9="","",IFERROR(_xlfn.XLOOKUP(C9,Stammdaten!$A$8:$A$27,Stammdaten!$D$8:$D$27),"")) | J9: 12 | K9: =IF(OR(A9="",C9="",E9="",F9="",AND(I9="",H9="")),"",IFERROR(F9*IF(I9="",H9,I9)+IF(J9="",0,J9),"")) | L9: Fiktives Beispiel 08
A10: 46239 | B10: =IF(A10="","",DATE(YEAR(A10),MONTH(A10),1)) | C10: PR-001 | D10: =IF(C10="","",IFERROR(_xlfn.XLOOKUP(C10,Stammdaten!$A$8:$A$27,Stammdaten!$B$8:$B$27),"Nicht gefunden")) | E10: Bearbeitungsfehler | F10: 2 | G10: =IF(C10="","",IFERROR(_xlfn.XLOOKUP(C10,Stammdaten!$A$8:$A$27,Stammdaten!$C$8:$C$27),"Nicht gefunden")) | H10: =IF(C10="","",IFERROR(_xlfn.XLOOKUP(C10,Stammdaten!$A$8:$A$27,Stammdaten!$D$8:$D$27),"")) | K10: =IF(OR(A10="",C10="",E10="",F10="",AND(I10="",H10="")),"",IFERROR(F10*IF(I10="",H10,I10)+IF(J10="",0,J10),"")) | L10: Fiktives Beispiel 09
A11: 46255 | B11: =IF(A11="","",DATE(YEAR(A11),MONTH(A11),1)) | C11: PR-002 | D11: =IF(C11="","",IFERROR(_xlfn.XLOOKUP(C11,Stammdaten!$A$8:$A$27,Stammdaten!$B$8:$B$27),"Nicht gefunden")) | E11: Beschädigung | F11: 4 | G11: =IF(C11="","",IFERROR(_xlfn.XLOOKUP(C11,Stammdaten!$A$8:$A$27,Stammdaten!$C$8:$C$27),"Nicht gefunden")) | H11: =IF(C11="","",IFERROR(_xlfn.XLOOKUP(C11,Stammdaten!$A$8:$A$27,Stammdaten!$D$8:$D$27),"")) | J11: 5 | K11: =IF(OR(A11="",C11="",E11="",F11="",AND(I11="",H11="")),"",IFERROR(F11*IF(I11="",H11,I11)+IF(J11="",0,J11),"")) | L11: Fiktives Beispiel 10
B12: =IF(A12="","",DATE(YEAR(A12),MONTH(A12),1)) | D12: =IF(C12="","",IFERROR(_xlfn.XLOOKUP(C12,Stammdaten!$A$8:$A$27,Stammdaten!$B$8:$B$27),"Nicht gefunden")) | G12: =IF(C12="","",IFERROR(_xlfn.XLOOKUP(C12,Stammdaten!$A$8:$A$27,Stammdaten!$C$8:$C$27),"Nicht gefunden")) | H12: =IF(C12="","",IFERROR(_xlfn.XLOOKUP(C12,Stammdaten!$A$8:$A$27,Stammdaten!$D$8:$D$27),"")) | K12: =IF(OR(A12="",C12="",E12="",F12="",AND(I12="",H12="")),"",IFERROR(F12*IF(I12="",H12,I12)+IF(J12="",0,J12),""))
B13: =IF(A13="","",DATE(YEAR(A13),MONTH(A13),1)) | D13: =IF(C13="","",IFERROR(_xlfn.XLOOKUP(C13,Stammdaten!$A$8:$A$27,Stammdaten!$B$8:$B$27),"Nicht gefunden")) | G13: =IF(C13="","",IFERROR(_xlfn.XLOOKUP(C13,Stammdaten!$A$8:$A$27,Stammdaten!$C$8:$C$27),"Nicht gefunden")) | H13: =IF(C13="","",IFERROR(_xlfn.XLOOKUP(C13,Stammdaten!$A$8:$A$27,Stammdaten!$D$8:$D$27),"")) | K13: =IF(OR(A13="",C13="",E13="",F13="",AND(I13="",H13="")),"",IFERROR(F13*IF(I13="",H13,I13)+IF(J13="",0,J13),""))
B14: =IF(A14="","",DATE(YEAR(A14),MONTH(A14),1)) | D14: =IF(C14="","",IFERROR(_xlfn.XLOOKUP(C14,Stammdaten!$A$8:$A$27,Stammdaten!$B$8:$B$27),"Nicht gefunden")) | G14: =IF(C14="","",IFERROR(_xlfn.XLOOKUP(C14,Stammdaten!$A$8:$A$27,Stammdaten!$C$8:$C$27),"Nicht gefunden")) | H14: =IF(C14="","",IFERROR(_xlfn.XLOOKUP(C14,Stammdaten!$A$8:$A$27,Stammdaten!$D$8:$D$27),"")) | K14: =IF(OR(A14="",C14="",E14="",F14="",AND(I14="",H14="")),"",IFERROR(F14*IF(I14="",H14,I14)+IF(J14="",0,J14),""))
B15: =IF(A15="","",DATE(YEAR(A15),MONTH(A15),1)) | D15: =IF(C15="","",IFERROR(_xlfn.XLOOKUP(C15,Stammdaten!$A$8:$A$27,Stammdaten!$B$8:$B$27),"Nicht gefunden")) | G15: =IF(C15="","",IFERROR(_xlfn.XLOOKUP(C15,Stammdaten!$A$8:$A$27,Stammdaten!$C$8:$C$27),"Nicht gefunden")) | H15: =IF(C15="","",IFERROR(_xlfn.XLOOKUP(C15,Stammdaten!$A$8:$A$27,Stammdaten!$D$8:$D$27),"")) | K15: =IF(OR(A15="",C15="",E15="",F15="",AND(I15="",H15="")),"",IFERROR(F15*IF(I15="",H15,I15)+IF(J15="",0,J15),""))
B16: =IF(A16="","",DATE(YEAR(A16),MONTH(A16),1)) | D16: =IF(C16="","",IFERROR(_xlfn.XLOOKUP(C16,Stammdaten!$A$8:$A$27,Stammdaten!$B$8:$B$27),"Nicht gefunden")) | G16: =IF(C16="","",IFERROR(_xlfn.XLOOKUP(C16,Stammdaten!$A$8:$A$27,Stammdaten!$C$8:$C$27),"Nicht gefunden")) | H16: =IF(C16="","",IFERROR(_xlfn.XLOOKUP(C16,Stammdaten!$A$8:$A$27,Stammdaten!$D$8:$D$27),"")) | K16: =IF(OR(A16="",C16="",E16="",F16="",AND(I16="",H16="")),"",IFERROR(F16*IF(I16="",H16,I16)+IF(J16="",0,J16),""))
B17: =IF(A17="","",DATE(YEAR(A17),MONTH(A17),1)) | D17: =IF(C17="","",IFERROR(_xlfn.XLOOKUP(C17,Stammdaten!$A$8:$A$27,Stammdaten!$B$8:$B$27),"Nicht gefunden")) | G17: =IF(C17="","",IFERROR(_xlfn.XLOOKUP(C17,Stammdaten!$A$8:$A$27,Stammdaten!$C$8:$C$27),"Nicht gefunden")) | H17: =IF(C17="","",IFERROR(_xlfn.XLOOKUP(C17,Stammdaten!$A$8:$A$27,Stammdaten!$D$8:$D$27),"")) | K17: =IF(OR(A17="",C17="",E17="",F17="",AND(I17="",H17="")),"",IFERROR(F17*IF(I17="",H17,I17)+IF(J17="",0,J17),""))
B18: =IF(A18="","",DATE(YEAR(A18),MONTH(A18),1)) | D18: =IF(C18="","",IFERROR(_xlfn.XLOOKUP(C18,Stammdaten!$A$8:$A$27,Stammdaten!$B$8:$B$27),"Nicht gefunden")) | G18: =IF(C18="","",IFERROR(_xlfn.XLOOKUP(C18,Stammdaten!$A$8:$A$27,Stammdaten!$C$8:$C$27),"Nicht gefunden")) | H18: =IF(C18="","",IFERROR(_xlfn.XLOOKUP(C18,Stammdaten!$A$8:$A$27,Stammdaten!$D$8:$D$27),"")) | K18: =IF(OR(A18="",C18="",E18="",F18="",AND(I18="",H18="")),"",IFERROR(F18*IF(I18="",H18,I18)+IF(J18="",0,J18),""))
B19: =IF(A19="","",DATE(YEAR(A19),MONTH(A19),1)) | D19: =IF(C19="","",IFERROR(_xlfn.XLOOKUP(C19,Stammdaten!$A$8:$A$27,Stammdaten!$B$8:$B$27),"Nicht gefunden")) | G19: =IF(C19="","",IFERROR(_xlfn.XLOOKUP(C19,Stammdaten!$A$8:$A$27,Stammdaten!$C$8:$C$27),"Nicht gefunden")) | H19: =IF(C19="","",IFERROR(_xlfn.XLOOKUP(C19,Stammdaten!$A$8:$A$27,Stammdaten!$D$8:$D$27),"")) | K19: =IF(OR(A19="",C19="",E19="",F19="",AND(I19="",H19="")),"",IFERROR(F19*IF(I19="",H19,I19)+IF(J19="",0,J19),""))
B20: =IF(A20="","",DATE(YEAR(A20),MONTH(A20),1)) | D20: =IF(C20="","",IFERROR(_xlfn.XLOOKUP(C20,Stammdaten!$A$8:$A$27,Stammdaten!$B$8:$B$27),"Nicht gefunden")) | G20: =IF(C20="","",IFERROR(_xlfn.XLOOKUP(C20,Stammdaten!$A$8:$A$27,Stammdaten!$C$8:$C$27),"Nicht gefunden")) | H20: =IF(C20="","",IFERROR(_xlfn.XLOOKUP(C20,Stammdaten!$A$8:$A$27,Stammdaten!$D$8:$D$27),"")) | K20: =IF(OR(A20="",C20="",E20="",F20="",AND(I20="",H20="")),"",IFERROR(F20*IF(I20="",H20,I20)+IF(J20="",0,J20),""))
B21: =IF(A21="","",DATE(YEAR(A21),MONTH(A21),1)) | D21: =IF(C21="","",IFERROR(_xlfn.XLOOKUP(C21,Stammdaten!$A$8:$A$27,Stammdaten!$B$8:$B$27),"Nicht gefunden")) | G21: =IF(C21="","",IFERROR(_xlfn.XLOOKUP(C21,Stammdaten!$A$8:$A$27,Stammdaten!$C$8:$C$27),"Nicht gefunden")) | H21: =IF(C21="","",IFERROR(_xlfn.XLOOKUP(C21,Stammdaten!$A$8:$A$27,Stammdaten!$D$8:$D$27),"")) | K21: =IF(OR(A21="",C21="",E21="",F21="",AND(I21="",H21="")),"",IFERROR(F21*IF(I21="",H21,I21)+IF(J21="",0,J21),""))
B22: =IF(A22="","",DATE(YEAR(A22),MONTH(A22),1)) | D22: =IF(C22="","",IFERROR(_xlfn.XLOOKUP(C22,Stammdaten!$A$8:$A$27,Stammdaten!$B$8:$B$27),"Nicht gefunden")) | G22: =IF(C22="","",IFERROR(_xlfn.XLOOKUP(C22,Stammdaten!$A$8:$A$27,Stammdaten!$C$8:$C$27),"Nicht gefunden")) | H22: =IF(C22="","",IFERROR(_xlfn.XLOOKUP(C22,Stammdaten!$A$8:$A$27,Stammdaten!$D$8:$D$27),"")) | K22: =IF(OR(A22="",C22="",E22="",F22="",AND(I22="",H22="")),"",IFERROR(F22*IF(I22="",H22,I22)+IF(J22="",0,J22),""))
B23: =IF(A23="","",DATE(YEAR(A23),MONTH(A23),1)) | D23: =IF(C23="","",IFERROR(_xlfn.XLOOKUP(C23,Stammdaten!$A$8:$A$27,Stammdaten!$B$8:$B$27),"Nicht gefunden")) | G23: =IF(C23="","",IFERROR(_xlfn.XLOOKUP(C23,Stammdaten!$A$8:$A$27,Stammdaten!$C$8:$C$27),"Nicht gefunden")) | H23: =IF(C23="","",IFERROR(_xlfn.XLOOKUP(C23,Stammdaten!$A$8:$A$27,Stammdaten!$D$8:$D$27),"")) | K23: =IF(OR(A23="",C23="",E23="",F23="",AND(I23="",H23="")),"",IFERROR(F23*IF(I23="",H23,I23)+IF(J23="",0,J23),""))
... B201: =IF(A201="","",DATE(YEAR(A201),MONTH(A201),1)) | D201: =IF(C201="","",IFERROR(_xlfn.XLOOKUP(C201,Stammdaten!$A$8:$A$27,Stammdaten!$B$8:$B$27),"Nicht gefunden")) | G201: =IF(C201="","",IFERROR(_xlfn.XLOOKUP(C201,Stammdaten!$A$8:$A$27,Stammdaten!$C$8:$C$27),"Nicht gefunden")) | H201: =IF(C201="","",IFERROR(_xlfn.XLOOKUP(C201,Stammdaten!$A$8:$A$27,Stammdaten!$D$8:$D$27),"")) | K201: =IF(OR(A201="",C201="",E201="",F201="",AND(I201="",H201="")),"",IFERROR(F201*IF(I201="",H201,I201)+IF(J201="",0,J201),""))

Sheet Stammdaten
A1: Ausschusskosten – Stammdaten und Parameter
A3: Warnschwelle je Vorgang | B3: 150
A4: Bedeutung | B4: Gesamtkosten oberhalb dieser veränderbaren Schwelle werden in der Erfassung orange hervorgehoben.
A5: Datenhinweis | B5: Alle vorbelegten Produkte und Ursachen sind eindeutig fiktiv.
A7: Produktcode | B7: Bezeichnung | C7: Einheit | D7: Standardkosten | F7: Ausschussursache
A8: PR-001 | B8: Gehäuse klein | C8: Stk | D8: 12.5 | F8: Materialfehler
A9: PR-002 | B9: Gehäuse groß | C9: Stk | D9: 18.9 | F9: Maßabweichung
A10: PR-003 | B10: Halterung | C10: Stk | D10: 7.8 | F10: Oberflächenfehler
A11: PR-004 | B11: Abdeckplatte | C11: Stk | D11: 10.4 | F11: Bearbeitungsfehler
F12: Beschädigung
A30: Rückwirkende Wirkung | B30: Änderungen an Standardkosten beeinflussen rückwirkend alle Erfassungszeilen, in denen keine abweichenden Bewertungskosten eingetragen sind.
A31: Abgrenzung | B31: Die Werte sind veränderbare betriebliche Annahmen und stellen keine Norm, Freigabe oder verbindliche Vorgabe dar.

Sheet Auswertung
A1: Ausschusskosten – Auswertung
A3: Bericht von | B3: 46023
A4: Bericht bis | B4: 46387
A6: Kennzahl | B6: Wert
A7: Gesamtkosten | B7: =IF(OR($B$3="",$B$4=""),"",SUMIFS(Erfassung!$K$2:$K$201,Erfassung!$A$2:$A$201,">="&$B$3,Erfassung!$A$2:$A$201,"<="&$B$4))
A8: Vollständige Vorgänge | B8: =IF(OR($B$3="",$B$4=""),"",COUNTIFS(Erfassung!$A$2:$A$201,">="&$B$3,Erfassung!$A$2:$A$201,"<="&$B$4,Erfassung!$K$2:$K$201,">=-1E+307",Erfassung!$D$2:$D$201,"<>Nicht gefunden",Erfassung!$D$2:$D$201,"<>"))
A9: Durchschnitt je Vorgang | B9: =IFERROR(B7/B8,"")
A12: Ausschussursache | B12: Vorgänge | C12: Ausschusskosten | E12: Produktcode | F12: Bezeichnung | G12: Vorgänge | H12: Ausschusskosten | J12: Monat | K12: Vorgänge | L12: Ausschusskosten
A13: =IF(Stammdaten!F8="","",Stammdaten!F8) | B13: =IF($A13="","",COUNTIFS(Erfassung!$A$2:$A$201,">="&$B$3,Erfassung!$A$2:$A$201,"<="&$B$4,Erfassung!$E$2:$E$201,$A13,Erfassung!$K$2:$K$201,">=-1E+307",Erfassung!$D$2:$D$201,"<>Nicht gefunden",Erfassung!$D$2:$D$201,"<>")) | C13: =IF($A13="","",SUMIFS(Erfassung!$K$2:$K$201,Erfassung!$A$2:$A$201,">="&$B$3,Erfassung!$A$2:$A$201,"<="&$B$4,Erfassung!$E$2:$E$201,$A13)) | E13: =IF(Stammdaten!A8="","",Stammdaten!A8) | F13: =IF($E13="","",IFERROR(_xlfn.XLOOKUP($E13,Stammdaten!$A$8:$A$27,Stammdaten!$B$8:$B$27),"Nicht gefunden")) | G13: =IF($E13="","",COUNTIFS(Erfassung!$A$2:$A$201,">="&$B$3,Erfassung!$A$2:$A$201,"<="&$B$4,Erfassung!$C$2:$C$201,$E13,Erfassung!$K$2:$K$201,">=-1E+307")) | H13: =IF($E13="","",SUMIFS(Erfassung!$K$2:$K$201,Erfassung!$A$2:$A$201,">="&$B$3,Erfassung!$A$2:$A$201,"<="&$B$4,Erfassung!$C$2:$C$201,$E13)) | J13: =IF($B$3="","",DATE(YEAR($B$3),MONTH($B$3),1)) | K13: =IF(OR(J13="",$B$4="",J13>DATE(YEAR($B$4),MONTH($B$4),1)),"",COUNTIFS(Erfassung!$A$2:$A$201,">="&MAX($B$3,J13),Erfassung!$A$2:$A$201,"<="&MIN($B$4,DATE(YEAR(J13),MONTH(J13)+1,0)),Erfassung!$K$2:$K$201,">=-1E+307",Erfassung!$D$2:$D$201,"<>Nicht gefunden",Erfassung!$D$2:$D$201,"<>")) | L13: =IF(OR(J13="",$B$4="",J13>DATE(YEAR($B$4),MONTH($B$4),1)),"",SUMIFS(Erfassung!$K$2:$K$201,Erfassung!$A$2:$A$201,">="&MAX($B$3,J13),Erfassung!$A$2:$A$201,"<="&MIN($B$4,DATE(YEAR(J13),MONTH(J13)+1,0)))
A14: =IF(Stammdaten!F9="","",Stammdaten!F9) | B14: =IF($A14="","",COUNTIFS(Erfassung!$A$2:$A$201,">="&$B$3,Erfassung!$A$2:$A$201,"<="&$B$4,Erfassung!$E$2:$E$201,$A14,Erfassung!$K$2:$K$201,">=-1E+307",Erfassung!$D$2:$D$201,"<>Nicht gefunden",Erfassung!$D$2:$D$201,"<>")) | C14: =IF($A14="","",SUMIFS(Erfassung!$K$2:$K$201,Erfassung!$A$2:$A$201,">="&$B$3,Erfassung!$A$2:$A$201,"<="&$B$4,Erfassung!$E$2:$E$201,$A14)) | E14: =IF(Stammdaten!A9="","",Stammdaten!A9) | F14: =IF($E14="","",IFERROR(_xlfn.XLOOKUP($E14,Stammdaten!$A$8:$A$27,Stammdaten!$B$8:$B$27),"Nicht gefunden")) | G14: =IF($E14="","",COUNTIFS(Erfassung!$A$2:$A$201,">="&$B$3,Erfassung!$A$2:$A$201,"<="&$B$4,Erfassung!$C$2:$C$201,$E14,Erfassung!$K$2:$K$201,">=-1E+307")) | H14: =IF($E14="","",SUMIFS(Erfassung!$K$2:$K$201,Erfassung!$A$2:$A$201,">="&$B$3,Erfassung!$A$2:$A$201,"<="&$B$4,Erfassung!$C$2:$C$201,$E14)) | J14: =IF(J13="","",DATE(YEAR(J13),MONTH(J13)+1,1)) | K14: =IF(OR(J14="",$B$4="",J14>DATE(YEAR($B$4),MONTH($B$4),1)),"",COUNTIFS(Erfassung!$A$2:$A$201,">="&MAX($B$3,J14),Erfassung!$A$2:$A$201,"<="&MIN($B$4,DATE(YEAR(J14),MONTH(J14)+1,0)),Erfassung!$K$2:$K$201,">=-1E+307",Erfassung!$D$2:$D$201,"<>Nicht gefunden",Erfassung!$D$2:$D$201,"<>")) | L14: =IF(OR(J14="",$B$4="",J14>DATE(YEAR($B$4),MONTH($B$4),1)),"",SUMIFS(Erfassung!$K$2:$K$201,Erfassung!$A$2:$A$201,">="&MAX($B$3,J14),Erfassung!$A$2:$A$201,"<="&MIN($B$4,DATE(YEAR(J14),MONTH(J14)+1,0)))
A15: =IF(Stammdaten!F10="","",Stammdaten!F10) | B15: =IF($A15="","",COUNTIFS(Erfassung!$A$2:$A$201,">="&$B$3,Erfassung!$A$2:$A$201,"<="&$B$4,Erfassung!$E$2:$E$201,$A15,Erfassung!$K$2:$K$201,">=-1E+307",Erfassung!$D$2:$D$201,"<>Nicht gefunden",Erfassung!$D$2:$D$201,"<>")) | C15: =IF($A15="","",SUMIFS(Erfassung!$K$2:$K$201,Erfassung!$A$2:$A$201,">="&$B$3,Erfassung!$A$2:$A$201,"<="&$B$4,Erfassung!$E$2:$E$201,$A15)) | E15: =IF(Stammdaten!A10="","",Stammdaten!A10) | F15: =IF($E15="","",IFERROR(_xlfn.XLOOKUP($E15,Stammdaten!$A$8:$A$27,Stammdaten!$B$8:$B$27),"Nicht gefunden")) | G15: =IF($E15="","",COUNTIFS(Erfassung!$A$2:$A$201,">="&$B$3,Erfassung!$A$2:$A$201,"<="&$B$4,Erfassung!$C$2:$C$201,$E15,Erfassung!$K$2:$K$201,">=-1E+307")) | H15: =IF($E15="","",SUMIFS(Erfassung!$K$2:$K$201,Erfassung!$A$2:$A$201,">="&$B$3,Erfassung!$A$2:$A$201,"<="&$B$4,Erfassung!$C$2:$C$201,$E15)) | J15: =IF(J14="","",DATE(YEAR(J14),MONTH(J14)+1,1)) | K15: =IF(OR(J15="",$B$4="",J15>DATE(YEAR($B$4),MONTH($B$4),1)),"",COUNTIFS(Erfassung!$A$2:$A$201,">="&MAX($B$3,J15),Erfassung!$A$2:$A$201,"<="&MIN($B$4,DATE(YEAR(J15),MONTH(J15)+1,0)),Erfassung!$K$2:$K$201,">=-1E+307",Erfassung!$D$2:$D$201,"<>Nicht gefunden",Erfassung!$D$2:$D$201,"<>")) | L15: =IF(OR(J15="",$B$4="",J15>DATE(YEAR($B$4),MONTH($B$4),1)),"",SUMIFS(Erfassung!$K$2:$K$201,Erfassung!$A$2:$A$201,">="&MAX($B$3,J15),Erfassung!$A$2:$A$201,"<="&MIN($B$4,DATE(YEAR(J15),MONTH(J15)+1,0)))
A16: =IF(Stammdaten!F11="","",Stammdaten!F11) | B16: =IF($A16="","",COUNTIFS(Erfassung!$A$2:$A$201,">="&$B$3,Erfassung!$A$2:$A$201,"<="&$B$4,Erfassung!$E$2:$E$201,$A16,Erfassung!$K$2:$K$201,">=-1E+307",Erfassung!$D$2:$D$201,"<>Nicht gefunden",Erfassung!$D$2:$D$201,"<>")) | C16: =IF($A16="","",SUMIFS(Erfassung!$K$2:$K$201,Erfassung!$A$2:$A$201,">="&$B$3,Erfassung!$A$2:$A$201,"<="&$B$4,Erfassung!$E$2:$E$201,$A16)) | E16: =IF(Stammdaten!A11="","",Stammdaten!A11) | F16: =IF($E16="","",IFERROR(_xlfn.XLOOKUP($E16,Stammdaten!$A$8:$A$27,Stammdaten!$B$8:$B$27),"Nicht gefunden")) | G16: =IF($E16="","",COUNTIFS(Erfassung!$A$2:$A$201,">="&$B$3,Erfassung!$A$2:$A$201,"<="&$B$4,Erfassung!$C$2:$C$201,$E16,Erfassung!$K$2:$K$201,">=-1E+307")) | H16: =IF($E16="","",SUMIFS(Erfassung!$K$2:$K$201,Erfassung!$A$2:$A$201,">="&$B$3,Erfassung!$A$2:$A$201,"<="&$B$4,Erfassung!$C$2:$C$201,$E16)) | J16: =IF(J15="","",DATE(YEAR(J15),MONTH(J15)+1,1)) | K16: =IF(OR(J16="",$B$4="",J16>DATE(YEAR($B$4),MONTH($B$4),1)),"",COUNTIFS(Erfassung!$A$2:$A$201,">="&MAX($B$3,J16),Erfassung!$A$2:$A$201,"<="&MIN($B$4,DATE(YEAR(J16),MONTH(J16)+1,0)),Erfassung!$K$2:$K$201,">=-1E+307",Erfassung!$D$2:$D$201,"<>Nicht gefunden",Erfassung!$D$2:$D$201,"<>")) | L16: =IF(OR(J16="",$B$4="",J16>DATE(YEAR($B$4),MONTH($B$4),1)),"",SUMIFS(Erfassung!$K$2:$K$201,Erfassung!$A$2:$A$201,">="&MAX($B$3,J16),Erfassung!$A$2:$A$201,"<="&MIN($B$4,DATE(YEAR(J16),MONTH(J16)+1,0)))
A17: =IF(Stammdaten!F12="","",Stammdaten!F12) | B17: =IF($A17="","",COUNTIFS(Erfassung!$A$2:$A$201,">="&$B$3,Erfassung!$A$2:$A$201,"<="&$B$4,Erfassung!$E$2:$E$201,$A17,Erfassung!$K$2:$K$201,">=-1E+307",Erfassung!$D$2:$D$201,"<>Nicht gefunden",Erfassung!$D$2:$D$201,"<>")) | C17: =IF($A17="","",SUMIFS(Erfassung!$K$2:$K$201,Erfassung!$A$2:$A$201,">="&$B$3,Erfassung!$A$2:$A$201,"<="&$B$4,Erfassung!$E$2:$E$201,$A17)) | E17: =IF(Stammdaten!A12="","",Stammdaten!A12) | F17: =IF($E17="","",IFERROR(_xlfn.XLOOKUP($E17,Stammdaten!$A$8:$A$27,Stammdaten!$B$8:$B$27),"Nicht gefunden")) | G17: =IF($E17="","",COUNTIFS(Erfassung!$A$2:$A$201,">="&$B$3,Erfassung!$A$2:$A$201,"<="&$B$4,Erfassung!$C$2:$C$201,$E17,Erfassung!$K$2:$K$201,">=-1E+307")) | H17: =IF($E17="","",SUMIFS(Erfassung!$K$2:$K$201,Erfassung!$A$2:$A$201,">="&$B$3,Erfassung!$A$2:$A$201,"<="&$B$4,Erfassung!$C$2:$C$201,$E17)) | J17: =IF(J16="","",DATE(YEAR(J16),MONTH(J16)+1,1)) | K17: =IF(OR(J17="",$B$4="",J17>DATE(YEAR($B$4),MONTH($B$4),1)),"",COUNTIFS(Erfassung!$A$2:$A$201,">="&MAX($B$3,J17),Erfassung!$A$2:$A$201,"<="&MIN($B$4,DATE(YEAR(J17),MONTH(J17)+1,0)),Erfassung!$K$2:$K$201,">=-1E+307",Erfassung!$D$2:$D$201,"<>Nicht gefunden",Erfassung!$D$2:$D$201,"<>")) | L17: =IF(OR(J17="",$B$4="",J17>DATE(YEAR($B$4),MONTH($B$4),1)),"",SUMIFS(Erfassung!$K$2:$K$201,Erfassung!$A$2:$A$201,">="&MAX($B$3,J17),Erfassung!$A$2:$A$201,"<="&MIN($B$4,DATE(YEAR(J17),MONTH(J17)+1,0)))
A18: =IF(Stammdaten!F13="","",Stammdaten!F13) | B18: =IF($A18="","",COUNTIFS(Erfassung!$A$2:$A$201,">="&$B$3,Erfassung!$A$2:$A$201,"<="&$B$4,Erfassung!$E$2:$E$201,$A18,Erfassung!$K$2:$K$201,">=-1E+307",Erfassung!$D$2:$D$201,"<>Nicht gefunden",Erfassung!$D$2:$D$201,"<>")) | C18: =IF($A18="","",SUMIFS(Erfassung!$K$2:$K$201,Erfassung!$A$2:$A$201,">="&$B$3,Erfassung!$A$2:$A$201,"<="&$B$4,Erfassung!$E$2:$E$201,$A18)) | E18: =IF(Stammdaten!A13="","",Stammdaten!A13) | F18: =IF($E18="","",IFERROR(_xlfn.XLOOKUP($E18,Stammdaten!$A$8:$A$27,Stammdaten!$B$8:$B$27),"Nicht gefunden")) | G18: =IF($E18="","",COUNTIFS(Erfassung!$A$2:$A$201,">="&$B$3,Erfassung!$A$2:$A$201,"<="&$B$4,Erfassung!$C$2:$C$201,$E18,Erfassung!$K$2:$K$201,">=-1E+307")) | H18: =IF($E18="","",SUMIFS(Erfassung!$K$2:$K$201,Erfassung!$A$2:$A$201,">="&$B$3,Erfassung!$A$2:$A$201,"<="&$B$4,Erfassung!$C$2:$C$201,$E18)) | J18: =IF(J17="","",DATE(YEAR(J17),MONTH(J17)+1,1)) | K18: =IF(OR(J18="",$B$4="",J18>DATE(YEAR($B$4),MONTH($B$4),1)),"",COUNTIFS(Erfassung!$A$2:$A$201,">="&MAX($B$3,J18),Erfassung!$A$2:$A$201,"<="&MIN($B$4,DATE(YEAR(J18),MONTH(J18)+1,0)),Erfassung!$K$2:$K$201,">=-1E+307",Erfassung!$D$2:$D$201,"<>Nicht gefunden",Erfassung!$D$2:$D$201,"<>")) | L18: =IF(OR(J18="",$B$4="",J18>DATE(YEAR($B$4),MONTH($B$4),1)),"",SUMIFS(Erfassung!$K$2:$K$201,Erfassung!$A$2:$A$201,">="&MAX($B$3,J18),Erfassung!$A$2:$A$201,"<="&MIN($B$4,DATE(YEAR(J18),MONTH(J18)+1,0)))
A19: =IF(Stammdaten!F14="","",Stammdaten!F14) | B19: =IF($A19="","",COUNTIFS(Erfassung!$A$2:$A$201,">="&$B$3,Erfassung!$A$2:$A$201,"<="&$B$4,Erfassung!$E$2:$E$201,$A19,Erfassung!$K$2:$K$201,">=-1E+307",Erfassung!$D$2:$D$201,"<>Nicht gefunden",Erfassung!$D$2:$D$201,"<>")) | C19: =IF($A19="","",SUMIFS(Erfassung!$K$2:$K$201,Erfassung!$A$2:$A$201,">="&$B$3,Erfassung!$A$2:$A$201,"<="&$B$4,Erfassung!$E$2:$E$201,$A19)) | E19: =IF(Stammdaten!A14="","",Stammdaten!A14) | F19: =IF($E19="","",IFERROR(_xlfn.XLOOKUP($E19,Stammdaten!$A$8:$A$27,Stammdaten!$B$8:$B$27),"Nicht gefunden")) | G19: =IF($E19="","",COUNTIFS(Erfassung!$A$2:$A$201,">="&$B$3,Erfassung!$A$2:$A$201,"<="&$B$4,Erfassung!$C$2:$C$201,$E19,Erfassung!$K$2:$K$201,">=-1E+307")) | H19: =IF($E19="","",SUMIFS(Erfassung!$K$2:$K$201,Erfassung!$A$2:$A$201,">="&$B$3,Erfassung!$A$2:$A$201,"<="&$B$4,Erfassung!$C$2:$C$201,$E19)) | J19: =IF(J18="","",DATE(YEAR(J18),MONTH(J18)+1,1)) | K19: =IF(OR(J19="",$B$4="",J19>DATE(YEAR($B$4),MONTH($B$4),1)),"",COUNTIFS(Erfassung!$A$2:$A$201,">="&MAX($B$3,J19),Erfassung!$A$2:$A$201,"<="&MIN($B$4,DATE(YEAR(J19),MONTH(J19)+1,0)),Erfassung!$K$2:$K$201,">=-1E+307",Erfassung!$D$2:$D$201,"<>Nicht gefunden",Erfassung!$D$2:$D$201,"<>")) | L19: =IF(OR(J19="",$B$4="",J19>DATE(YEAR($B$4),MONTH($B$4),1)),"",SUMIFS(Erfassung!$K$2:$K$201,Erfassung!$A$2:$A$201,">="&MAX($B$3,J19),Erfassung!$A$2:$A$201,"<="&MIN($B$4,DATE(YEAR(J19),MONTH(J19)+1,0)))
A20: =IF(Stammdaten!F15="","",Stammdaten!F15) | B20: =IF($A20="","",COUNTIFS(Erfassung!$A$2:$A$201,">="&$B$3,Erfassung!$A$2:$A$201,"<="&$B$4,Erfassung!$E$2:$E$201,$A20,Erfassung!$K$2:$K$201,">=-1E+307",Erfassung!$D$2:$D$201,"<>Nicht gefunden",Erfassung!$D$2:$D$201,"<>")) | C20: =IF($A20="","",SUMIFS(Erfassung!$K$2:$K$201,Erfassung!$A$2:$A$201,">="&$B$3,Erfassung!$A$2:$A$201,"<="&$B$4,Erfassung!$E$2:$E$201,$A20)) | E20: =IF(Stammdaten!A15="","",Stammdaten!A15) | F20: =IF($E20="","",IFERROR(_xlfn.XLOOKUP($E20,Stammdaten!$A$8:$A$27,Stammdaten!$B$8:$B$27),"Nicht gefunden")) | G20: =IF($E20="","",COUNTIFS(Erfassung!$A$2:$A$201,">="&$B$3,Erfassung!$A$2:$A$201,"<="&$B$4,Erfassung!$C$2:$C$201,$E20,Erfassung!$K$2:$K$201,">=-1E+307")) | H20: =IF($E20="","",SUMIFS(Erfassung!$K$2:$K$201,Erfassung!$A$2:$A$201,">="&$B$3,Erfassung!$A$2:$A$201,"<="&$B$4,Erfassung!$C$2:$C$201,$E20)) | J20: =IF(J19="","",DATE(YEAR(J19),MONTH(J19)+1,1)) | K20: =IF(OR(J20="",$B$4="",J20>DATE(YEAR($B$4),MONTH($B$4),1)),"",COUNTIFS(Erfassung!$A$2:$A$201,">="&MAX($B$3,J20),Erfassung!$A$2:$A$201,"<="&MIN($B$4,DATE(YEAR(J20),MONTH(J20)+1,0)),Erfassung!$K$2:$K$201,">=-1E+307",Erfassung!$D$2:$D$201,"<>Nicht gefunden",Erfassung!$D$2:$D$201,"<>")) | L20: =IF(OR(J20="",$B$4="",J20>DATE(YEAR($B$4),MONTH($B$4),1)),"",SUMIFS(Erfassung!$K$2:$K$201,Erfassung!$A$2:$A$201,">="&MAX($B$3,J20),Erfassung!$A$2:$A$201,"<="&MIN($B$4,DATE(YEAR(J20),MONTH(J20)+1,0)))
A21: =IF(Stammdaten!F16="","",Stammdaten!F16) | B21: =IF($A21="","",COUNTIFS(Erfassung!$A$2:$A$201,">="&$B$3,Erfassung!$A$2:$A$201,"<="&$B$4,Erfassung!$E$2:$E$201,$A21,Erfassung!$K$2:$K$201,">=-1E+307",Erfassung!$D$2:$D$201,"<>Nicht gefunden",Erfassung!$D$2:$D$201,"<>")) | C21: =IF($A21="","",SUMIFS(Erfassung!$K$2:$K$201,Erfassung!$A$2:$A$201,">="&$B$3,Erfassung!$A$2:$A$201,"<="&$B$4,Erfassung!$E$2:$E$201,$A21)) | E21: =IF(Stammdaten!A16="","",Stammdaten!A16) | F21: =IF($E21="","",IFERROR(_xlfn.XLOOKUP($E21,Stammdaten!$A$8:$A$27,Stammdaten!$B$8:$B$27),"Nicht gefunden")) | G21: =IF($E21="","",COUNTIFS(Erfassung!$A$2:$A$201,">="&$B$3,Erfassung!$A$2:$A$201,"<="&$B$4,Erfassung!$C$2:$C$201,$E21,Erfassung!$K$2:$K$201,">=-1E+307")) | H21: =IF($E21="","",SUMIFS(Erfassung!$K$2:$K$201,Erfassung!$A$2:$A$201,">="&$B$3,Erfassung!$A$2:$A$201,"<="&$B$4,Erfassung!$C$2:$C$201,$E21)) | J21: =IF(J20="","",DATE(YEAR(J20),MONTH(J20)+1,1)) | K21: =IF(OR(J21="",$B$4="",J21>DATE(YEAR($B$4),MONTH($B$4),1)),"",COUNTIFS(Erfassung!$A$2:$A$201,">="&MAX($B$3,J21),Erfassung!$A$2:$A$201,"<="&MIN($B$4,DATE(YEAR(J21),MONTH(J21)+1,0)),Erfassung!$K$2:$K$201,">=-1E+307",Erfassung!$D$2:$D$201,"<>Nicht gefunden",Erfassung!$D$2:$D$201,"<>")) | L21: =IF(OR(J21="",$B$4="",J21>DATE(YEAR($B$4),MONTH($B$4),1)),"",SUMIFS(Erfassung!$K$2:$K$201,Erfassung!$A$2:$A$201,">="&MAX($B$3,J21),Erfassung!$A$2:$A$201,"<="&MIN($B$4,DATE(YEAR(J21),MONTH(J21)+1,0)))
A22: =IF(Stammdaten!F17="","",Stammdaten!F17) | B22: =IF($A22="","",COUNTIFS(Erfassung!$A$2:$A$201,">="&$B$3,Erfassung!$A$2:$A$201,"<="&$B$4,Erfassung!$E$2:$E$201,$A22,Erfassung!$K$2:$K$201,">=-1E+307",Erfassung!$D$2:$D$201,"<>Nicht gefunden",Erfassung!$D$2:$D$201,"<>")) | C22: =IF($A22="","",SUMIFS(Erfassung!$K$2:$K$201,Erfassung!$A$2:$A$201,">="&$B$3,Erfassung!$A$2:$A$201,"<="&$B$4,Erfassung!$E$2:$E$201,$A22)) | E22: =IF(Stammdaten!A17="","",Stammdaten!A17) | F22: =IF($E22="","",IFERROR(_xlfn.XLOOKUP($E22,Stammdaten!$A$8:$A$27,Stammdaten!$B$8:$B$27),"Nicht gefunden")) | G22: =IF($E22="","",COUNTIFS(Erfassung!$A$2:$A$201,">="&$B$3,Erfassung!$A$2:$A$201,"<="&$B$4,Erfassung!$C$2:$C$201,$E22,Erfassung!$K$2:$K$201,">=-1E+307")) | H22: =IF($E22="","",SUMIFS(Erfassung!$K$2:$K$201,Erfassung!$A$2:$A$201,">="&$B$3,Erfassung!$A$2:$A$201,"<="&$B$4,Erfassung!$C$2:$C$201,$E22)) | J22: =IF(J21="","",DATE(YEAR(J21),MONTH(J21)+1,1)) | K22: =IF(OR(J22="",$B$4="",J22>DATE(YEAR($B$4),MONTH($B$4),1)),"",COUNTIFS(Erfassung!$A$2:$A$201,">="&MAX($B$3,J22),Erfassung!$A$2:$A$201,"<="&MIN($B$4,DATE(YEAR(J22),MONTH(J22)+1,0)),Erfassung!$K$2:$K$201,">=-1E+307",Erfassung!$D$2:$D$201,"<>Nicht gefunden",Erfassung!$D$2:$D$201,"<>")) | L22: =IF(OR(J22="",$B$4="",J22>DATE(YEAR($B$4),MONTH($B$4),1)),"",SUMIFS(Erfassung!$K$2:$K$201,Erfassung!$A$2:$A$201,">="&MAX($B$3,J22),Erfassung!$A$2:$A$201,"<="&MIN($B$4,DATE(YEAR(J22),MONTH(J22)+1,0)))
A23: =IF(Stammdaten!F18="","",Stammdaten!F18) | B23: =IF($A23="","",COUNTIFS(Erfassung!$A$2:$A$201,">="&$B$3,Erfassung!$A$2:$A$201,"<="&$B$4,Erfassung!$E$2:$E$201,$A23,Erfassung!$K$2:$K$201,">=-1E+307",Erfassung!$D$2:$D$201,"<>Nicht gefunden",Erfassung!$D$2:$D$201,"<>")) | C23: =IF($A23="","",SUMIFS(Erfassung!$K$2:$K$201,Erfassung!$A$2:$A$201,">="&$B$3,Erfassung!$A$2:$A$201,"<="&$B$4,Erfassung!$E$2:$E$201,$A23)) | E23: =IF(Stammdaten!A18="","",Stammdaten!A18) | F23: =IF($E23="","",IFERROR(_xlfn.XLOOKUP($E23,Stammdaten!$A$8:$A$27,Stammdaten!$B$8:$B$27),"Nicht gefunden")) | G23: =IF($E23="","",COUNTIFS(Erfassung!$A$2:$A$201,">="&$B$3,Erfassung!$A$2:$A$201,"<="&$B$4,Erfassung!$C$2:$C$201,$E23,Erfassung!$K$2:$K$201,">=-1E+307")) | H23: =IF($E23="","",SUMIFS(Erfassung!$K$2:$K$201,Erfassung!$A$2:$A$201,">="&$B$3,Erfassung!$A$2:$A$201,"<="&$B$4,Erfassung!$C$2:$C$201,$E23)) | J23: =IF(J22="","",DATE(YEAR(J22),MONTH(J22)+1,1)) | K23: =IF(OR(J23="",$B$4="",J23>DATE(YEAR($B$4),MONTH($B$4),1)),"",COUNTIFS(Erfassung!$A$2:$A$201,">="&MAX($B$3,J23),Erfassung!$A$2:$A$201,"<="&MIN($B$4,DATE(YEAR(J23),MONTH(J23)+1,0)),Erfassung!$K$2:$K$201,">=-1E+307",Erfassung!$D$2:$D$201,"<>Nicht gefunden",Erfassung!$D$2:$D$201,"<>")) | L23: =IF(OR(J23="",$B$4="",J23>DATE(YEAR($B$4),MONTH($B$4),1)),"",SUMIFS(Erfassung!$K$2:$K$201,Erfassung!$A$2:$A$201,">="&MAX($B$3,J23),Erfassung!$A$2:$A$201,"<="&MIN($B$4,DATE(YEAR(J23),MONTH(J23)+1,0)))
A24: =IF(Stammdaten!F19="","",Stammdaten!F19) | B24: =IF($A24="","",COUNTIFS(Erfassung!$A$2:$A$201,">="&$B$3,Erfassung!$A$2:$A$201,"<="&$B$4,Erfassung!$E$2:$E$201,$A24,Erfassung!$K$2:$K$201,">=-1E+307",Erfassung!$D$2:$D$201,"<>Nicht gefunden",Erfassung!$D$2:$D$201,"<>")) | C24: =IF($A24="","",SUMIFS(Erfassung!$K$2:$K$201,Erfassung!$A$2:$A$201,">="&$B$3,Erfassung!$A$2:$A$201,"<="&$B$4,Erfassung!$E$2:$E$201,$A24)) | E24: =IF(Stammdaten!A19="","",Stammdaten!A19) | F24: =IF($E24="","",IFERROR(_xlfn.XLOOKUP($E24,Stammdaten!$A$8:$A$27,Stammdaten!$B$8:$B$27),"Nicht gefunden")) | G24: =IF($E24="","",COUNTIFS(Erfassung!$A$2:$A$201,">="&$B$3,Erfassung!$A$2:$A$201,"<="&$B$4,Erfassung!$C$2:$C$201,$E24,Erfassung!$K$2:$K$201,">=-1E+307")) | H24: =IF($E24="","",SUMIFS(Erfassung!$K$2:$K$201,Erfassung!$A$2:$A$201,">="&$B$3,Erfassung!$A$2:$A$201,"<="&$B$4,Erfassung!$C$2:$C$201,$E24)) | J24: =IF(J23="","",DATE(YEAR(J23),MONTH(J23)+1,1)) | K24: =IF(OR(J24="",$B$4="",J24>DATE(YEAR($B$4),MONTH($B$4),1)),"",COUNTIFS(Erfassung!$A$2:$A$201,">="&MAX($B$3,J24),Erfassung!$A$2:$A$201,"<="&MIN($B$4,DATE(YEAR(J24),MONTH(J24)+1,0)),Erfassung!$K$2:$K$201,">=-1E+307",Erfassung!$D$2:$D$201,"<>Nicht gefunden",Erfassung!$D$2:$D$201,"<>")) | L24: =IF(OR(J24="",$B$4="",J24>DATE(YEAR($B$4),MONTH($B$4),1)),"",SUMIFS(Erfassung!$K$2:$K$201,Erfassung!$A$2:$A$201,">="&MAX($B$3,J24),Erfassung!$A$2:$A$201,"<="&MIN($B$4,DATE(YEAR(J24),MONTH(J24)+1,0)))
A25: =IF(Stammdaten!F20="","",Stammdaten!F20) | B25: =IF($A25="","",COUNTIFS(Erfassung!$A$2:$A$201,">="&$B$3,Erfassung!$A$2:$A$201,"<="&$B$4,Erfassung!$E$2:$E$201,$A25,Erfassung!$K$2:$K$201,">=-1E+307",Erfassung!$D$2:$D$201,"<>Nicht gefunden",Erfassung!$D$2:$D$201,"<>")) | C25: =IF($A25="","",SUMIFS(Erfassung!$K$2:$K$201,Erfassung!$A$2:$A$201,">="&$B$3,Erfassung!$A$2:$A$201,"<="&$B$4,Erfassung!$E$2:$E$201,$A25)) | E25: =IF(Stammdaten!A20="","",Stammdaten!A20) | F25: =IF($E25="","",IFERROR(_xlfn.XLOOKUP($E25,Stammdaten!$A$8:$A$27,Stammdaten!$B$8:$B$27),"Nicht gefunden")) | G25: =IF($E25="","",COUNTIFS(Erfassung!$A$2:$A$201,">="&$B$3,Erfassung!$A$2:$A$201,"<="&$B$4,Erfassung!$C$2:$C$201,$E25,Erfassung!$K$2:$K$201,">=-1E+307")) | H25: =IF($E25="","",SUMIFS(Erfassung!$K$2:$K$201,Erfassung!$A$2:$A$201,">="&$B$3,Erfassung!$A$2:$A$201,"<="&$B$4,Erfassung!$C$2:$C$201,$E25)) | J25: =IF(J24="","",DATE(YEAR(J24),MONTH(J24)+1,1)) | K25: =IF(OR(J25="",$B$4="",J25>DATE(YEAR($B$4),MONTH($B$4),1)),"",COUNTIFS(Erfassung!$A$2:$A$201,">="&MAX($B$3,J25),Erfassung!$A$2:$A$201,"<="&MIN($B$4,DATE(YEAR(J25),MONTH(J25)+1,0)),Erfassung!$K$2:$K$201,">=-1E+307",Erfassung!$D$2:$D$201,"<>Nicht gefunden",Erfassung!$D$2:$D$201,"<>")) | L25: =IF(OR(J25="",$B$4="",J25>DATE(YEAR($B$4),MONTH($B$4),1)),"",SUMIFS(Erfassung!$K$2:$K$201,Erfassung!$A$2:$A$201,">="&MAX($B$3,J25),Erfassung!$A$2:$A$201,"<="&MIN($B$4,DATE(YEAR(J25),MONTH(J25)+1,0)))
... A27: =IF(Stammdaten!F22="","",Stammdaten!F22) | B27: =IF($A27="","",COUNTIFS(Erfassung!$A$2:$A$201,">="&$B$3,Erfassung!$A$2:$A$201,"<="&$B$4,Erfassung!$E$2:$E$201,$A27,Erfassung!$K$2:$K$201,">=-1E+307",Erfassung!$D$2:$D$201,"<>Nicht gefunden",Erfassung!$D$2:$D$201,"<>")) | C27: =IF($A27="","",SUMIFS(Erfassung!$K$2:$K$201,Erfassung!$A$2:$A$201,">="&$B$3,Erfassung!$A$2:$A$201,"<="&$B$4,Erfassung!$E$2:$E$201,$A27)) | E27: =IF(Stammdaten!A22="","",Stammdaten!A22) | F27: =IF($E27="","",IFERROR(_xlfn.XLOOKUP($E27,Stammdaten!$A$8:$A$27,Stammdaten!$B$8:$B$27),"Nicht gefunden")) | G27: =IF($E27="","",COUNTIFS(Erfassung!$A$2:$A$201,">="&$B$3,Erfassung!$A$2:$A$201,"<="&$B$4,Erfassung!$C$2:$C$201,$E27,Erfassung!$K$2:$K$201,">=-1E+307")) | H27: =IF($E27="","",SUMIFS(Erfassung!$K$2:$K$201,Erfassung!$A$2:$A$201,">="&$B$3,Erfassung!$A$2:$A$201,"<="&$B$4,Erfassung!$C$2:$C$201,$E27)) | J27: =IF(J26="","",DATE(YEAR(J26),MONTH(J26)+1,1)) | K27: =IF(OR(J27="",$B$4="",J27>DATE(YEAR($B$4),MONTH($B$4),1)),"",COUNTIFS(Erfassung!$A$2:$A$201,">="&MAX($B$3,J27),Erfassung!$A$2:$A$201,"<="&MIN($B$4,DATE(YEAR(J27),MONTH(J27)+1,0)),Erfassung!$K$2:$K$201,">=-1E+307",Erfassung!$D$2:$D$201,"<>Nicht gefunden",Erfassung!$D$2:$D$201,"<>")) | L27: =IF(OR(J27="",$B$4="",J27>DATE(YEAR($B$4),MONTH($B$4),1)),"",SUMIFS(Erfassung!$K$2:$K$201,Erfassung!$A$2:$A$201,">="&MAX($B$3,J27),Erfassung!$A$2:$A$201,"<="&MIN($B$4,DATE(YEAR(J27),MONTH(J27)+1,0)))
E28: =IF(Stammdaten!A23="","",Stammdaten!A23) | F28: =IF($E28="","",IFERROR(_xlfn.XLOOKUP($E28,Stammdaten!$A$8:$A$27,Stammdaten!$B$8:$B$27),"Nicht gefunden")) | G28: =IF($E28="","",COUNTIFS(Erfassung!$A$2:$A$201,">="&$B$3,Erfassung!$A$2:$A$201,"<="&$B$4,Erfassung!$C$2:$C$201,$E28,Erfassung!$K$2:$K$201,">=-1E+307")) | H28: =IF($E28="","",SUMIFS(Erfassung!$K$2:$K$201,Erfassung!$A$2:$A$201,">="&$B$3,Erfassung!$A$2:$A$201,"<="&$B$4,Erfassung!$C$2:$C$201,$E28)) | J28: =IF(J27="","",DATE(YEAR(J27),MONTH(J27)+1,1)) | K28: =IF(OR(J28="",$B$4="",J28>DATE(YEAR($B$4),MONTH($B$4),1)),"",COUNTIFS(Erfassung!$A$2:$A$201,">="&MAX($B$3,J28),Erfassung!$A$2:$A$201,"<="&MIN($B$4,DATE(YEAR(J28),MONTH(J28)+1,0)),Erfassung!$K$2:$K$201,">=-1E+307",Erfassung!$D$2:$D$201,"<>Nicht gefunden",Erfassung!$D$2:$D$201,"<>")) | L28: =IF(OR(J28="",$B$4="",J28>DATE(YEAR($B$4),MONTH($B$4),1)),"",SUMIFS(Erfassung!$K$2:$K$201,Erfassung!$A$2:$A$201,">="&MAX($B$3,J28),Erfassung!$A$2:$A$201,"<="&MIN($B$4,DATE(YEAR(J28),MONTH(J28)+1,0)))
E29: =IF(Stammdaten!A24="","",Stammdaten!A24) | F29: =IF($E29="","",IFERROR(_xlfn.XLOOKUP($E29,Stammdaten!$A$8:$A$27,Stammdaten!$B$8:$B$27),"Nicht gefunden")) | G29: =IF($E29="","",COUNTIFS(Erfassung!$A$2:$A$201,">="&$B$3,Erfassung!$A$2:$A$201,"<="&$B$4,Erfassung!$C$2:$C$201,$E29,Erfassung!$K$2:$K$201,">=-1E+307")) | H29: =IF($E29="","",SUMIFS(Erfassung!$K$2:$K$201,Erfassung!$A$2:$A$201,">="&$B$3,Erfassung!$A$2:$A$201,"<="&$B$4,Erfassung!$C$2:$C$201,$E29)) | J29: =IF(J28="","",DATE(YEAR(J28),MONTH(J28)+1,1)) | K29: =IF(OR(J29="",$B$4="",J29>DATE(YEAR($B$4),MONTH($B$4),1)),"",COUNTIFS(Erfassung!$A$2:$A$201,">="&MAX($B$3,J29),Erfassung!$A$2:$A$201,"<="&MIN($B$4,DATE(YEAR(J29),MONTH(J29)+1,0)),Erfassung!$K$2:$K$201,">=-1E+307",Erfassung!$D$2:$D$201,"<>Nicht gefunden",Erfassung!$D$2:$D$201,"<>")) | L29: =IF(OR(J29="",$B$4="",J29>DATE(YEAR($B$4),MONTH($B$4),1)),"",SUMIFS(Erfassung!$K$2:$K$201,Erfassung!$A$2:$A$201,">="&MAX($B$3,J29),Erfassung!$A$2:$A$201,"<="&MIN($B$4,DATE(YEAR(J29),MONTH(J29)+1,0)))
E30: =IF(Stammdaten!A25="","",Stammdaten!A25) | F30: =IF($E30="","",IFERROR(_xlfn.XLOOKUP($E30,Stammdaten!$A$8:$A$27,Stammdaten!$B$8:$B$27),"Nicht gefunden")) | G30: =IF($E30="","",COUNTIFS(Erfassung!$A$2:$A$201,">="&$B$3,Erfassung!$A$2:$A$201,"<="&$B$4,Erfassung!$C$2:$C$201,$E30,Erfassung!$K$2:$K$201,">=-1E+307")) | H30: =IF($E30="","",SUMIFS(Erfassung!$K$2:$K$201,Erfassung!$A$2:$A$201,">="&$B$3,Erfassung!$A$2:$A$201,"<="&$B$4,Erfassung!$C$2:$C$201,$E30)) | J30: =IF(J29="","",DATE(YEAR(J29),MONTH(J29)+1,1)) | K30: =IF(OR(J30="",$B$4="",J30>DATE(YEAR($B$4),MONTH($B$4),1)),"",COUNTIFS(Erfassung!$A$2:$A$201,">="&MAX($B$3,J30),Erfassung!$A$2:$A$201,"<="&MIN($B$4,DATE(YEAR(J30),MONTH(J30)+1,0)),Erfassung!$K$2:$K$201,">=-1E+307",Erfassung!$D$2:$D$201,"<>Nicht gefunden",Erfassung!$D$2:$D$201,"<>")) | L30: =IF(OR(J30="",$B$4="",J30>DATE(YEAR($B$4),MONTH($B$4),1)),"",SUMIFS(Erfassung!$K$2:$K$201,Erfassung!$A$2:$A$201,">="&MAX($B$3,J30),Erfassung!$A$2:$A$201,"<="&MIN($B$4,DATE(YEAR(J30),MONTH(J30)+1,0)))
E31: =IF(Stammdaten!A26="","",Stammdaten!A26) | F31: =IF($E31="","",IFERROR(_xlfn.XLOOKUP($E31,Stammdaten!$A$8:$A$27,Stammdaten!$B$8:$B$27),"Nicht gefunden")) | G31: =IF($E31="","",COUNTIFS(Erfassung!$A$2:$A$201,">="&$B$3,Erfassung!$A$2:$A$201,"<="&$B$4,Erfassung!$C$2:$C$201,$E31,Erfassung!$K$2:$K$201,">=-1E+307")) | H31: =IF($E31="","",SUMIFS(Erfassung!$K$2:$K$201,Erfassung!$A$2:$A$201,">="&$B$3,Erfassung!$A$2:$A$201,"<="&$B$4,Erfassung!$C$2:$C$201,$E31)) | J31: =IF(J30="","",DATE(YEAR(J30),MONTH(J30)+1,1)) | K31: =IF(OR(J31="",$B$4="",J31>DATE(YEAR($B$4),MONTH($B$4),1)),"",COUNTIFS(Erfassung!$A$2:$A$201,">="&MAX($B$3,J31),Erfassung!$A$2:$A$201,"<="&MIN($B$4,DATE(YEAR(J31),MONTH(J31)+1,0)),Erfassung!$K$2:$K$201,">=-1E+307",Erfassung!$D$2:$D$201,"<>Nicht gefunden",Erfassung!$D$2:$D$201,"<>")) | L31: =IF(OR(J31="",$B$4="",J31>DATE(YEAR($B$4),MONTH($B$4),1)),"",SUMIFS(Erfassung!$K$2:$K$201,Erfassung!$A$2:$A$201,">="&MAX($B$3,J31),Erfassung!$A$2:$A$201,"<="&MIN($B$4,DATE(YEAR(J31),MONTH(J31)+1,0)))
E32: =IF(Stammdaten!A27="","",Stammdaten!A27) | F32: =IF($E32="","",IFERROR(_xlfn.XLOOKUP($E32,Stammdaten!$A$8:$A$27,Stammdaten!$B$8:$B$27),"Nicht gefunden")) | G32: =IF($E32="","",COUNTIFS(Erfassung!$A$2:$A$201,">="&$B$3,Erfassung!$A$2:$A$201,"<="&$B$4,Erfassung!$C$2:$C$201,$E32,Erfassung!$K$2:$K$201,">=-1E+307")) | H32: =IF($E32="","",SUMIFS(Erfassung!$K$2:$K$201,Erfassung!$A$2:$A$201,">="&$B$3,Erfassung!$A$2:$A$201,"<="&$B$4,Erfassung!$C$2:$C$201,$E32)) | J32: =IF(J31="","",DATE(YEAR(J31),MONTH(J31)+1,1)) | K32: =IF(OR(J32="",$B$4="",J32>DATE(YEAR($B$4),MONTH($B$4),1)),"",COUNTIFS(Erfassung!$A$2:$A$201,">="&MAX($B$3,J32),Erfassung!$A$2:$A$201,"<="&MIN($B$4,DATE(YEAR(J32),MONTH(J32)+1,0)),Erfassung!$K$2:$K$201,">=-1E+307",Erfassung!$D$2:$D$201,"<>Nicht gefunden",Erfassung!$D$2:$D$201,"<>")) | L32: =IF(OR(J32="",$B$4="",J32>DATE(YEAR($B$4),MONTH($B$4),1)),"",SUMIFS(Erfassung!$K$2:$K$201,Erfassung!$A$2:$A$201,">="&MAX($B$3,J32),Erfassung!$A$2:$A$201,"<="&MIN($B$4,DATE(YEAR(J32),MONTH(J32)+1,0)))
J33: =IF(J32="","",DATE(YEAR(J32),MONTH(J32)+1,1)) | K33: =IF(OR(J33="",$B$4="",J33>DATE(YEAR($B$4),MONTH($B$4),1)),"",COUNTIFS(Erfassung!$A$2:$A$201,">="&MAX($B$3,J33),Erfassung!$A$2:$A$201,"<="&MIN($B$4,DATE(YEAR(J33),MONTH(J33)+1,0)),Erfassung!$K$2:$K$201,">=-1E+307",Erfassung!$D$2:$D$201,"<>Nicht gefunden",Erfassung!$D$2:$D$201,"<>")) | L33: =IF(OR(J33="",$B$4="",J33>DATE(YEAR($B$4),MONTH($B$4),1)),"",SUMIFS(Erfassung!$K$2:$K$201,Erfassung!$A$2:$A$201,">="&MAX($B$3,J33),Erfassung!$A$2:$A$201,"<="&MIN($B$4,DATE(YEAR(J33),MONTH(J33)+1,0)))
J34: =IF(J33="","",DATE(YEAR(J33),MONTH(J33)+1,1)) | K34: =IF(OR(J34="",$B$4="",J34>DATE(YEAR($B$4),MONTH($B$4),1)),"",COUNTIFS(Erfassung!$A$2:$A$201,">="&MAX($B$3,J34),Erfassung!$A$2:$A$201,"<="&MIN($B$4,DATE(YEAR(J34),MONTH(J34)+1,0)),Erfassung!$K$2:$K$201,">=-1E+307",Erfassung!$D$2:$D$201,"<>Nicht gefunden",Erfassung!$D$2:$D$201,"<>")) | L34: =IF(OR(J34="",$B$4="",J34>DATE(YEAR($B$4),MONTH($B$4),1)),"",SUMIFS(Erfassung!$K$2:$K$201,Erfassung!$A$2:$A$201,">="&MAX($B$3,J34),Erfassung!$A$2:$A$201,"<="&MIN($B$4,DATE(YEAR(J34),MONTH(J34)+1,0)))
J35: =IF(J34="","",DATE(YEAR(J34),MONTH(J34)+1,1)) | K35: =IF(OR(J35="",$B$4="",J35>DATE(YEAR($B$4),MONTH($B$4),1)),"",COUNTIFS(Erfassung!$A$2:$A$201,">="&MAX($B$3,J35),Erfassung!$A$2:$A$201,"<="&MIN($B$4,DATE(YEAR(J35),MONTH(J35)+1,0)),Erfassung!$K$2:$K$201,">=-1E+307",Erfassung!$D$2:$D$201,"<>Nicht gefunden",Erfassung!$D$2:$D$201,"<>")) | L35: =IF(OR(J35="",$B$4="",J35>DATE(YEAR($B$4),MONTH($B$4),1)),"",SUMIFS(Erfassung!$K$2:$K$201,Erfassung!$A$2:$A$201,">="&MAX($B$3,J35),Erfassung!$A$2:$A$201,"<="&MIN($B$4,DATE(YEAR(J35),MONTH(J35)+1,0)))
J36: =IF(J35="","",DATE(YEAR(J35),MONTH(J35)+1,1)) | K36: =IF(OR(J36="",$B$4="",J36>DATE(YEAR($B$4),MONTH($B$4),1)),"",COUNTIFS(Erfassung!$A$2:$A$201,">="&MAX($B$3,J36),Erfassung!$A$2:$A$201,"<="&MIN($B$4,DATE(YEAR(J36),MONTH(J36)+1,0)),Erfassung!$K$2:$K$201,">=-1E+307",Erfassung!$D$2:$D$201,"<>Nicht gefunden",Erfassung!$D$2:$D$201,"<>")) | L36: =IF(OR(J36="",$B$4="",J36>DATE(YEAR($B$4),MONTH($B$4),1)),"",SUMIFS(Erfassung!$K$2:$K$201,Erfassung!$A$2:$A$201,">="&MAX($B$3,J36),Erfassung!$A$2:$A$201,"<="&MIN($B$4,DATE(YEAR(J36),MONTH(J36)+1,0)))
J37: =IF(J36="","",DATE(YEAR(J36),MONTH(J36)+1,1)) | K37: =IF(OR(J37="",$B$4="",J37>DATE(YEAR($B$4),MONTH($B$4),1)),"",COUNTIFS(Erfassung!$A$2:$A$201,">="&MAX($B$3,J37),Erfassung!$A$2:$A$201,"<="&MIN($B$4,DATE(YEAR(J37),MONTH(J37)+1,0)),Erfassung!$K$2:$K$201,">=-1E+307",Erfassung!$D$2:$D$201,"<>Nicht gefunden",Erfassung!$D$2:$D$201,"<>")) | L37: =IF(OR(J37="",$B$4="",J37>DATE(YEAR($B$4),MONTH($B$4),1)),"",SUMIFS(Erfassung!$K$2:$K$201,Erfassung!$A$2:$A$201,">="&MAX($B$3,J37),Erfassung!$A$2:$A$201,"<="&MIN($B$4,DATE(YEAR(J37),MONTH(J37)+1,0)))
J38: =IF(J37="","",DATE(YEAR(J37),MONTH(J37)+1,1)) | K38: =IF(OR(J38="",$B$4="",J38>DATE(YEAR($B$4),MONTH($B$4),1)),"",COUNTIFS(Erfassung!$A$2:$A$201,">="&MAX($B$3,J38),Erfassung!$A$2:$A$201,"<="&MIN($B$4,DATE(YEAR(J38),MONTH(J38)+1,0)),Erfassung!$K$2:$K$201,">=-1E+307",Erfassung!$D$2:$D$201,"<>Nicht gefunden",Erfassung!$D$2:$D$201,"<>")) | L38: =IF(OR(J38="",$B$4="",J38>DATE(YEAR($B$4),MONTH($B$4),1)),"",SUMIFS(Erfassung!$K$2:$K$201,Erfassung!$A$2:$A$201,">="&MAX($B$3,J38),Erfassung!$A$2:$A$201,"<="&MIN($B$4,DATE(YEAR(J38),MONTH(J38)+1,0)))
J39: =IF(J38="","",DATE(YEAR(J38),MONTH(J38)+1,1)) | K39: =IF(OR(J39="",$B$4="",J39>DATE(YEAR($B$4),MONTH($B$4),1)),"",COUNTIFS(Erfassung!$A$2:$A$201,">="&MAX($B$3,J39),Erfassung!$A$2:$A$201,"<="&MIN($B$4,DATE(YEAR(J39),MONTH(J39)+1,0)),Erfassung!$K$2:$K$201,">=-1E+307",Erfassung!$D$2:$D$201,"<>Nicht gefunden",Erfassung!$D$2:$D$201,"<>")) | L39: =IF(OR(J39="",$B$4="",J39>DATE(YEAR($B$4),MONTH($B$4),1)),"",SUMIFS(Erfassung!$K$2:$K$201,Erfassung!$A$2:$A$201,">="&MAX($B$3,J39),Erfassung!$A$2:$A$201,"<="&MIN($B$4,DATE(YEAR(J39),MONTH(J39)+1,0)))
J40: =IF(J39="","",DATE(YEAR(J39),MONTH(J39)+1,1)) | K40: =IF(OR(J40="",$B$4="",J40>DATE(YEAR($B$4),MONTH($B$4),1)),"",COUNTIFS(Erfassung!$A$2:$A$201,">="&MAX($B$3,J40),Erfassung!$A$2:$A$201,"<="&MIN($B$4,DATE(YEAR(J40),MONTH(J40)+1,0)),Erfassung!$K$2:$K$201,">=-1E+307",Erfassung!$D$2:$D$201,"<>Nicht gefunden",Erfassung!$D$2:$D$201,"<>")) | L40: =IF(OR(J40="",$B$4="",J40>DATE(YEAR($B$4),MONTH($B$4),1)),"",SUMIFS(Erfassung!$K$2:$K$201,Erfassung!$A$2:$A$201,">="&MAX($B$3,J40),Erfassung!$A$2:$A$201,"<="&MIN($B$4,DATE(YEAR(J40),MONTH(J40)+1,0)))
J41: =IF(J40="","",DATE(YEAR(J40),MONTH(J40)+1,1)) | K41: =IF(OR(J41="",$B$4="",J41>DATE(YEAR($B$4),MONTH($B$4),1)),"",COUNTIFS(Erfassung!$A$2:$A$201,">="&MAX($B$3,J41),Erfassung!$A$2:$A$201,"<="&MIN($B$4,DATE(YEAR(J41),MONTH(J41)+1,0)),Erfassung!$K$2:$K$201,">=-1E+307",Erfassung!$D$2:$D$201,"<>Nicht gefunden",Erfassung!$D$2:$D$201,"<>")) | L41: =IF(OR(J41="",$B$4="",J41>DATE(YEAR($B$4),MONTH($B$4),1)),"",SUMIFS(Erfassung!$K$2:$K$201,Erfassung!$A$2:$A$201,">="&MAX($B$3,J41),Erfassung!$A$2:$A$201,"<="&MIN($B$4,DATE(YEAR(J41),MONTH(J41)+1,0)))
J42: =IF(J41="","",DATE(YEAR(J41),MONTH(J41)+1,1)) | K42: =IF(OR(J42="",$B$4="",J42>DATE(YEAR($B$4),MONTH($B$4),1)),"",COUNTIFS(Erfassung!$A$2:$A$201,">="&MAX($B$3,J42),Erfassung!$A$2:$A$201,"<="&MIN($B$4,DATE(YEAR(J42),MONTH(J42)+1,0)),Erfassung!$K$2:$K$201,">=-1E+307",Erfassung!$D$2:$D$201,"<>Nicht gefunden",Erfassung!$D$2:$D$201,"<>")) | L42: =IF(OR(J42="",$B$4="",J42>DATE(YEAR($B$4),MONTH($B$4),1)),"",SUMIFS(Erfassung!$K$2:$K$201,Erfassung!$A$2:$A$201,">="&MAX($B$3,J42),Erfassung!$A$2:$A$201,"<="&MIN($B$4,DATE(YEAR(J42),MONTH(J42)+1,0)))
J43: =IF(J42="","",DATE(YEAR(J42),MONTH(J42)+1,1)) | K43: =IF(OR(J43="",$B$4="",J43>DATE(YEAR($B$4),MONTH($B$4),1)),"",COUNTIFS(Erfassung!$A$2:$A$201,">="&MAX($B$3,J43),Erfassung!$A$2:$A$201,"<="&MIN($B$4,DATE(YEAR(J43),MONTH(J43)+1,0)),Erfassung!$K$2:$K$201,">=-1E+307",Erfassung!$D$2:$D$201,"<>Nicht gefunden",Erfassung!$D$2:$D$201,"<>")) | L43: =IF(OR(J43="",$B$4="",J43>DATE(YEAR($B$4),MONTH($B$4),1)),"",SUMIFS(Erfassung!$K$2:$K$201,Erfassung!$A$2:$A$201,">="&MAX($B$3,J43),Erfassung!$A$2:$A$201,"<="&MIN($B$4,DATE(YEAR(J43),MONTH(J43)+1,0)))
J44: =IF(J43="","",DATE(YEAR(J43),MONTH(J43)+1,1)) | K44: =IF(OR(J44="",$B$4="",J44>DATE(YEAR($B$4),MONTH($B$4),1)),"",COUNTIFS(Erfassung!$A$2:$A$201,">="&MAX($B$3,J44),Erfassung!$A$2:$A$201,"<="&MIN($B$4,DATE(YEAR(J44),MONTH(J44)+1,0)),Erfassung!$K$2:$K$201,">=-1E+307",Erfassung!$D$2:$D$201,"<>Nicht gefunden",Erfassung!$D$2:$D$201,"<>")) | L44: =IF(OR(J44="",$B$4="",J44>DATE(YEAR($B$4),MONTH($B$4),1)),"",SUMIFS(Erfassung!$K$2:$K$201,Erfassung!$A$2:$A$201,">="&MAX($B$3,J44),Erfassung!$A$2:$A$201,"<="&MIN($B$4,DATE(YEAR(J44),MONTH(J44)+1,0)))
... J48: =IF(J47="","",DATE(YEAR(J47),MONTH(J47)+1,1)) | K48: =IF(OR(J48="",$B$4="",J48>DATE(YEAR($B$4),MONTH($B$4),1)),"",COUNTIFS(Erfassung!$A$2:$A$201,">="&MAX($B$3,J48),Erfassung!$A$2:$A$201,"<="&MIN($B$4,DATE(YEAR(J48),MONTH(J48)+1,0)),Erfassung!$K$2:$K$201,">=-1E+307",Erfassung!$D$2:$D$201,"<>Nicht gefunden",Erfassung!$D$2:$D$201,"<>")) | L48: =IF(OR(J48="",$B$4="",J48>DATE(YEAR($B$4),MONTH($B$4),1)),"",SUMIFS(Erfassung!$K$2:$K$201,Erfassung!$A$2:$A$201,">="&MAX($B$3,J48),Erfassung!$A$2:$A$201,"<="&MIN($B$4,DATE(YEAR(J48),MONTH(J48)+1,0)))
