Workbook

Sheet Zusammenfassung
A1: Auftragspriorisierung Produktion
A3: Kennzahl | B3: Wert
A4: Stichtag | B4: =Parameter!$B$2
A5: Erfasste Aufträge | B5: =COUNTIF('Aufträge'!$A$2:$A$151,"<>")
A6: Offene Aufträge | B6: =COUNTIFS('Aufträge'!$A$2:$A$151,"<>",'Aufträge'!$G$2:$G$151,"Offen")
A7: Abgeschlossene Aufträge | B7: =COUNTIFS('Aufträge'!$A$2:$A$151,"<>",'Aufträge'!$G$2:$G$151,"Fertig")
A8: Überfällige offene Aufträge | B8: =COUNTIFS('Aufträge'!$A$2:$A$151,"<>",'Aufträge'!$G$2:$G$151,"Offen",'Aufträge'!$H$2:$H$151,">0")
A9: Aufträge mit fehlenden Pflichtangaben | B9: =COUNTIF('Aufträge'!$N$2:$N$151,"Angaben ergänzen")
A10: Parameterkontrolle | B10: =Parameter!$B$9
A12: Rang | B12: Auftrag-ID | C12: Artikelcode | D12: Zugesagter Termin | E12: Prioritätswert | F12: Handlung
A13: 1 | B13: =IFERROR(INDEX('Aufträge'!$A$2:$A$151,MATCH($A13,'Aufträge'!$M$2:$M$151,0)),"") | C13: =IFERROR(INDEX('Aufträge'!$B$2:$B$151,MATCH($A13,'Aufträge'!$M$2:$M$151,0)),"") | D13: =IFERROR(INDEX('Aufträge'!$D$2:$D$151,MATCH($A13,'Aufträge'!$M$2:$M$151,0)),"") | E13: =IFERROR(INDEX('Aufträge'!$L$2:$L$151,MATCH($A13,'Aufträge'!$M$2:$M$151,0)),"") | F13: =IFERROR(INDEX('Aufträge'!$N$2:$N$151,MATCH($A13,'Aufträge'!$M$2:$M$151,0)),"")
A14: 2 | B14: =IFERROR(INDEX('Aufträge'!$A$2:$A$151,MATCH($A14,'Aufträge'!$M$2:$M$151,0)),"") | C14: =IFERROR(INDEX('Aufträge'!$B$2:$B$151,MATCH($A14,'Aufträge'!$M$2:$M$151,0)),"") | D14: =IFERROR(INDEX('Aufträge'!$D$2:$D$151,MATCH($A14,'Aufträge'!$M$2:$M$151,0)),"") | E14: =IFERROR(INDEX('Aufträge'!$L$2:$L$151,MATCH($A14,'Aufträge'!$M$2:$M$151,0)),"") | F14: =IFERROR(INDEX('Aufträge'!$N$2:$N$151,MATCH($A14,'Aufträge'!$M$2:$M$151,0)),"")
A15: 3 | B15: =IFERROR(INDEX('Aufträge'!$A$2:$A$151,MATCH($A15,'Aufträge'!$M$2:$M$151,0)),"") | C15: =IFERROR(INDEX('Aufträge'!$B$2:$B$151,MATCH($A15,'Aufträge'!$M$2:$M$151,0)),"") | D15: =IFERROR(INDEX('Aufträge'!$D$2:$D$151,MATCH($A15,'Aufträge'!$M$2:$M$151,0)),"") | E15: =IFERROR(INDEX('Aufträge'!$L$2:$L$151,MATCH($A15,'Aufträge'!$M$2:$M$151,0)),"") | F15: =IFERROR(INDEX('Aufträge'!$N$2:$N$151,MATCH($A15,'Aufträge'!$M$2:$M$151,0)),"")
A16: 4 | B16: =IFERROR(INDEX('Aufträge'!$A$2:$A$151,MATCH($A16,'Aufträge'!$M$2:$M$151,0)),"") | C16: =IFERROR(INDEX('Aufträge'!$B$2:$B$151,MATCH($A16,'Aufträge'!$M$2:$M$151,0)),"") | D16: =IFERROR(INDEX('Aufträge'!$D$2:$D$151,MATCH($A16,'Aufträge'!$M$2:$M$151,0)),"") | E16: =IFERROR(INDEX('Aufträge'!$L$2:$L$151,MATCH($A16,'Aufträge'!$M$2:$M$151,0)),"") | F16: =IFERROR(INDEX('Aufträge'!$N$2:$N$151,MATCH($A16,'Aufträge'!$M$2:$M$151,0)),"")
A17: 5 | B17: =IFERROR(INDEX('Aufträge'!$A$2:$A$151,MATCH($A17,'Aufträge'!$M$2:$M$151,0)),"") | C17: =IFERROR(INDEX('Aufträge'!$B$2:$B$151,MATCH($A17,'Aufträge'!$M$2:$M$151,0)),"") | D17: =IFERROR(INDEX('Aufträge'!$D$2:$D$151,MATCH($A17,'Aufträge'!$M$2:$M$151,0)),"") | E17: =IFERROR(INDEX('Aufträge'!$L$2:$L$151,MATCH($A17,'Aufträge'!$M$2:$M$151,0)),"") | F17: =IFERROR(INDEX('Aufträge'!$N$2:$N$151,MATCH($A17,'Aufträge'!$M$2:$M$151,0)),"")
A19: Entscheidungshinweise
A20: Rang: niedrige Nummern zuerst einplanen. | B20: Materialverfügbarkeit manuell prüfen. | C20: Kapazität und Rüstfolge manuell prüfen. | D20: Technische Machbarkeit manuell prüfen. | E20: Keine Feinplanung oder Fortschrittsdokumentation. | F20: Pönalen sind interne Planwerte ohne rechtliche Aussage.
A21: Fehlender Pönale-Planwert zählt als null. | B21: Fehlender Termin verhindert Wert und Rang. | C21: Fehlende Kritikalität verhindert Wert und Rang. | D21: Fertige Aufträge erhalten keinen Prioritätswert. | E21: Keine Kosten- oder Personaleinsatzplanung. | F21: Sortiergrundlage im Blatt „Aufträge“: Rang aufsteigend.

Sheet Aufträge
A1: Auftrag-ID | B1: Artikelcode | C1: Menge | D1: Zugesagter Termin | E1: Kritikalität | F1: Pönale-Planwert je Verzugstag | G1: Status | H1: Verzugstage | I1: Termindruck | J1: Kritikalitätspunkte | K1: Pönalenpunkte | L1: Prioritätswert | M1: Rang | N1: Handlung
A2: BEISPIEL-001 | B2: ART-X01 | C2: 20 | D2: 46268 | E2: Hoch | F2: 1500 | G2: Offen | H2: =IF(OR(A2="",D2="",G2="Fertig"),"",MAX(0,Parameter!$B$2-D2)) | I2: =IF(OR(A2="",D2="",G2="Fertig"),"",IFERROR(IF(D2<=Parameter!$B$2,100,MAX(0,100-(D2-Parameter!$B$2)*100/Parameter!$B$3)),"")) | J2: =IF(OR(A2="",E2="",G2="Fertig"),"",IFERROR(VLOOKUP(E2,Parameter!$D$2:$E$4,2,FALSE),"")) | K2: =IF(OR(A2="",G2="Fertig"),"",IFERROR(MIN(100,IF(F2="",0,F2)*100/Parameter!$B$7),"")) | L2: =IF(OR(A2="",D2="",E2="",G2="Fertig"),"",IFERROR((I2*Parameter!$B$4+J2*Parameter!$B$5+K2*Parameter!$B$6)/SUM(Parameter!$B$4:$B$6),"")) | M2: =IF(L2="","",IFERROR(RANK(L2,$L$2:$L$151,0)+COUNTIF($L$2:L2,L2)-1,"")) | N2: =IF(A2="","",IF(G2="Fertig","Abgeschlossen",IF(OR(D2="",E2="",M2=""),"Angaben ergänzen",IF(M2<=5,"Zuerst fertigen","Nach Rang einplanen"))))
A3: BEISPIEL-002 | B3: ART-X02 | C3: 50 | D3: 46273 | E3: Hoch | F3: 1000 | G3: Offen | H3: =IF(OR(A3="",D3="",G3="Fertig"),"",MAX(0,Parameter!$B$2-D3)) | I3: =IF(OR(A3="",D3="",G3="Fertig"),"",IFERROR(IF(D3<=Parameter!$B$2,100,MAX(0,100-(D3-Parameter!$B$2)*100/Parameter!$B$3)),"")) | J3: =IF(OR(A3="",E3="",G3="Fertig"),"",IFERROR(VLOOKUP(E3,Parameter!$D$2:$E$4,2,FALSE),"")) | K3: =IF(OR(A3="",G3="Fertig"),"",IFERROR(MIN(100,IF(F3="",0,F3)*100/Parameter!$B$7),"")) | L3: =IF(OR(A3="",D3="",E3="",G3="Fertig"),"",IFERROR((I3*Parameter!$B$4+J3*Parameter!$B$5+K3*Parameter!$B$6)/SUM(Parameter!$B$4:$B$6),"")) | M3: =IF(L3="","",IFERROR(RANK(L3,$L$2:$L$151,0)+COUNTIF($L$2:L3,L3)-1,"")) | N3: =IF(A3="","",IF(G3="Fertig","Abgeschlossen",IF(OR(D3="",E3="",M3=""),"Angaben ergänzen",IF(M3<=5,"Zuerst fertigen","Nach Rang einplanen"))))
A4: BEISPIEL-003 | B4: ART-X03 | C4: 80 | D4: 46275 | E4: Mittel | F4: 500 | G4: Offen | H4: =IF(OR(A4="",D4="",G4="Fertig"),"",MAX(0,Parameter!$B$2-D4)) | I4: =IF(OR(A4="",D4="",G4="Fertig"),"",IFERROR(IF(D4<=Parameter!$B$2,100,MAX(0,100-(D4-Parameter!$B$2)*100/Parameter!$B$3)),"")) | J4: =IF(OR(A4="",E4="",G4="Fertig"),"",IFERROR(VLOOKUP(E4,Parameter!$D$2:$E$4,2,FALSE),"")) | K4: =IF(OR(A4="",G4="Fertig"),"",IFERROR(MIN(100,IF(F4="",0,F4)*100/Parameter!$B$7),"")) | L4: =IF(OR(A4="",D4="",E4="",G4="Fertig"),"",IFERROR((I4*Parameter!$B$4+J4*Parameter!$B$5+K4*Parameter!$B$6)/SUM(Parameter!$B$4:$B$6),"")) | M4: =IF(L4="","",IFERROR(RANK(L4,$L$2:$L$151,0)+COUNTIF($L$2:L4,L4)-1,"")) | N4: =IF(A4="","",IF(G4="Fertig","Abgeschlossen",IF(OR(D4="",E4="",M4=""),"Angaben ergänzen",IF(M4<=5,"Zuerst fertigen","Nach Rang einplanen"))))
A5: BEISPIEL-004 | B5: ART-X04 | C5: 120 | D5: 46280 | E5: Niedrig | F5: 0 | G5: Offen | H5: =IF(OR(A5="",D5="",G5="Fertig"),"",MAX(0,Parameter!$B$2-D5)) | I5: =IF(OR(A5="",D5="",G5="Fertig"),"",IFERROR(IF(D5<=Parameter!$B$2,100,MAX(0,100-(D5-Parameter!$B$2)*100/Parameter!$B$3)),"")) | J5: =IF(OR(A5="",E5="",G5="Fertig"),"",IFERROR(VLOOKUP(E5,Parameter!$D$2:$E$4,2,FALSE),"")) | K5: =IF(OR(A5="",G5="Fertig"),"",IFERROR(MIN(100,IF(F5="",0,F5)*100/Parameter!$B$7),"")) | L5: =IF(OR(A5="",D5="",E5="",G5="Fertig"),"",IFERROR((I5*Parameter!$B$4+J5*Parameter!$B$5+K5*Parameter!$B$6)/SUM(Parameter!$B$4:$B$6),"")) | M5: =IF(L5="","",IFERROR(RANK(L5,$L$2:$L$151,0)+COUNTIF($L$2:L5,L5)-1,"")) | N5: =IF(A5="","",IF(G5="Fertig","Abgeschlossen",IF(OR(D5="",E5="",M5=""),"Angaben ergänzen",IF(M5<=5,"Zuerst fertigen","Nach Rang einplanen"))))
A6: BEISPIEL-005 | B6: ART-X05 | C6: 200 | D6: 46287 | E6: Hoch | G6: Offen | H6: =IF(OR(A6="",D6="",G6="Fertig"),"",MAX(0,Parameter!$B$2-D6)) | I6: =IF(OR(A6="",D6="",G6="Fertig"),"",IFERROR(IF(D6<=Parameter!$B$2,100,MAX(0,100-(D6-Parameter!$B$2)*100/Parameter!$B$3)),"")) | J6: =IF(OR(A6="",E6="",G6="Fertig"),"",IFERROR(VLOOKUP(E6,Parameter!$D$2:$E$4,2,FALSE),"")) | K6: =IF(OR(A6="",G6="Fertig"),"",IFERROR(MIN(100,IF(F6="",0,F6)*100/Parameter!$B$7),"")) | L6: =IF(OR(A6="",D6="",E6="",G6="Fertig"),"",IFERROR((I6*Parameter!$B$4+J6*Parameter!$B$5+K6*Parameter!$B$6)/SUM(Parameter!$B$4:$B$6),"")) | M6: =IF(L6="","",IFERROR(RANK(L6,$L$2:$L$151,0)+COUNTIF($L$2:L6,L6)-1,"")) | N6: =IF(A6="","",IF(G6="Fertig","Abgeschlossen",IF(OR(D6="",E6="",M6=""),"Angaben ergänzen",IF(M6<=5,"Zuerst fertigen","Nach Rang einplanen"))))
A7: BEISPIEL-006 | B7: ART-X06 | C7: 300 | D7: 46295 | E7: Mittel | F7: 250 | G7: Offen | H7: =IF(OR(A7="",D7="",G7="Fertig"),"",MAX(0,Parameter!$B$2-D7)) | I7: =IF(OR(A7="",D7="",G7="Fertig"),"",IFERROR(IF(D7<=Parameter!$B$2,100,MAX(0,100-(D7-Parameter!$B$2)*100/Parameter!$B$3)),"")) | J7: =IF(OR(A7="",E7="",G7="Fertig"),"",IFERROR(VLOOKUP(E7,Parameter!$D$2:$E$4,2,FALSE),"")) | K7: =IF(OR(A7="",G7="Fertig"),"",IFERROR(MIN(100,IF(F7="",0,F7)*100/Parameter!$B$7),"")) | L7: =IF(OR(A7="",D7="",E7="",G7="Fertig"),"",IFERROR((I7*Parameter!$B$4+J7*Parameter!$B$5+K7*Parameter!$B$6)/SUM(Parameter!$B$4:$B$6),"")) | M7: =IF(L7="","",IFERROR(RANK(L7,$L$2:$L$151,0)+COUNTIF($L$2:L7,L7)-1,"")) | N7: =IF(A7="","",IF(G7="Fertig","Abgeschlossen",IF(OR(D7="",E7="",M7=""),"Angaben ergänzen",IF(M7<=5,"Zuerst fertigen","Nach Rang einplanen"))))
A8: BEISPIEL-007 | B8: ART-X07 | C8: 500 | D8: 46270 | E8: Niedrig | F8: 0 | G8: Fertig | H8: =IF(OR(A8="",D8="",G8="Fertig"),"",MAX(0,Parameter!$B$2-D8)) | I8: =IF(OR(A8="",D8="",G8="Fertig"),"",IFERROR(IF(D8<=Parameter!$B$2,100,MAX(0,100-(D8-Parameter!$B$2)*100/Parameter!$B$3)),"")) | J8: =IF(OR(A8="",E8="",G8="Fertig"),"",IFERROR(VLOOKUP(E8,Parameter!$D$2:$E$4,2,FALSE),"")) | K8: =IF(OR(A8="",G8="Fertig"),"",IFERROR(MIN(100,IF(F8="",0,F8)*100/Parameter!$B$7),"")) | L8: =IF(OR(A8="",D8="",E8="",G8="Fertig"),"",IFERROR((I8*Parameter!$B$4+J8*Parameter!$B$5+K8*Parameter!$B$6)/SUM(Parameter!$B$4:$B$6),"")) | M8: =IF(L8="","",IFERROR(RANK(L8,$L$2:$L$151,0)+COUNTIF($L$2:L8,L8)-1,"")) | N8: =IF(A8="","",IF(G8="Fertig","Abgeschlossen",IF(OR(D8="",E8="",M8=""),"Angaben ergänzen",IF(M8<=5,"Zuerst fertigen","Nach Rang einplanen"))))
A9: BEISPIEL-008 | B9: ART-X08 | C9: 40 | D9: 46277 | F9: 400 | G9: Offen | H9: =IF(OR(A9="",D9="",G9="Fertig"),"",MAX(0,Parameter!$B$2-D9)) | I9: =IF(OR(A9="",D9="",G9="Fertig"),"",IFERROR(IF(D9<=Parameter!$B$2,100,MAX(0,100-(D9-Parameter!$B$2)*100/Parameter!$B$3)),"")) | J9: =IF(OR(A9="",E9="",G9="Fertig"),"",IFERROR(VLOOKUP(E9,Parameter!$D$2:$E$4,2,FALSE),"")) | K9: =IF(OR(A9="",G9="Fertig"),"",IFERROR(MIN(100,IF(F9="",0,F9)*100/Parameter!$B$7),"")) | L9: =IF(OR(A9="",D9="",E9="",G9="Fertig"),"",IFERROR((I9*Parameter!$B$4+J9*Parameter!$B$5+K9*Parameter!$B$6)/SUM(Parameter!$B$4:$B$6),"")) | M9: =IF(L9="","",IFERROR(RANK(L9,$L$2:$L$151,0)+COUNTIF($L$2:L9,L9)-1,"")) | N9: =IF(A9="","",IF(G9="Fertig","Abgeschlossen",IF(OR(D9="",E9="",M9=""),"Angaben ergänzen",IF(M9<=5,"Zuerst fertigen","Nach Rang einplanen"))))
A10: BEISPIEL-009 | B10: ART-X09 | C10: 160 | D10: 46272 | E10: Mittel | F10: 750 | G10: Offen | H10: =IF(OR(A10="",D10="",G10="Fertig"),"",MAX(0,Parameter!$B$2-D10)) | I10: =IF(OR(A10="",D10="",G10="Fertig"),"",IFERROR(IF(D10<=Parameter!$B$2,100,MAX(0,100-(D10-Parameter!$B$2)*100/Parameter!$B$3)),"")) | J10: =IF(OR(A10="",E10="",G10="Fertig"),"",IFERROR(VLOOKUP(E10,Parameter!$D$2:$E$4,2,FALSE),"")) | K10: =IF(OR(A10="",G10="Fertig"),"",IFERROR(MIN(100,IF(F10="",0,F10)*100/Parameter!$B$7),"")) | L10: =IF(OR(A10="",D10="",E10="",G10="Fertig"),"",IFERROR((I10*Parameter!$B$4+J10*Parameter!$B$5+K10*Parameter!$B$6)/SUM(Parameter!$B$4:$B$6),"")) | M10: =IF(L10="","",IFERROR(RANK(L10,$L$2:$L$151,0)+COUNTIF($L$2:L10,L10)-1,"")) | N10: =IF(A10="","",IF(G10="Fertig","Abgeschlossen",IF(OR(D10="",E10="",M10=""),"Angaben ergänzen",IF(M10<=5,"Zuerst fertigen","Nach Rang einplanen"))))
A11: BEISPIEL-010 | B11: ART-X10 | C11: 250 | D11: 46283 | E11: Hoch | F11: 1500 | G11: Offen | H11: =IF(OR(A11="",D11="",G11="Fertig"),"",MAX(0,Parameter!$B$2-D11)) | I11: =IF(OR(A11="",D11="",G11="Fertig"),"",IFERROR(IF(D11<=Parameter!$B$2,100,MAX(0,100-(D11-Parameter!$B$2)*100/Parameter!$B$3)),"")) | J11: =IF(OR(A11="",E11="",G11="Fertig"),"",IFERROR(VLOOKUP(E11,Parameter!$D$2:$E$4,2,FALSE),"")) | K11: =IF(OR(A11="",G11="Fertig"),"",IFERROR(MIN(100,IF(F11="",0,F11)*100/Parameter!$B$7),"")) | L11: =IF(OR(A11="",D11="",E11="",G11="Fertig"),"",IFERROR((I11*Parameter!$B$4+J11*Parameter!$B$5+K11*Parameter!$B$6)/SUM(Parameter!$B$4:$B$6),"")) | M11: =IF(L11="","",IFERROR(RANK(L11,$L$2:$L$151,0)+COUNTIF($L$2:L11,L11)-1,"")) | N11: =IF(A11="","",IF(G11="Fertig","Abgeschlossen",IF(OR(D11="",E11="",M11=""),"Angaben ergänzen",IF(M11<=5,"Zuerst fertigen","Nach Rang einplanen"))))
H12: =IF(OR(A12="",D12="",G12="Fertig"),"",MAX(0,Parameter!$B$2-D12)) | I12: =IF(OR(A12="",D12="",G12="Fertig"),"",IFERROR(IF(D12<=Parameter!$B$2,100,MAX(0,100-(D12-Parameter!$B$2)*100/Parameter!$B$3)),"")) | J12: =IF(OR(A12="",E12="",G12="Fertig"),"",IFERROR(VLOOKUP(E12,Parameter!$D$2:$E$4,2,FALSE),"")) | K12: =IF(OR(A12="",G12="Fertig"),"",IFERROR(MIN(100,IF(F12="",0,F12)*100/Parameter!$B$7),"")) | L12: =IF(OR(A12="",D12="",E12="",G12="Fertig"),"",IFERROR((I12*Parameter!$B$4+J12*Parameter!$B$5+K12*Parameter!$B$6)/SUM(Parameter!$B$4:$B$6),"")) | M12: =IF(L12="","",IFERROR(RANK(L12,$L$2:$L$151,0)+COUNTIF($L$2:L12,L12)-1,"")) | N12: =IF(A12="","",IF(G12="Fertig","Abgeschlossen",IF(OR(D12="",E12="",M12=""),"Angaben ergänzen",IF(M12<=5,"Zuerst fertigen","Nach Rang einplanen"))))
H13: =IF(OR(A13="",D13="",G13="Fertig"),"",MAX(0,Parameter!$B$2-D13)) | I13: =IF(OR(A13="",D13="",G13="Fertig"),"",IFERROR(IF(D13<=Parameter!$B$2,100,MAX(0,100-(D13-Parameter!$B$2)*100/Parameter!$B$3)),"")) | J13: =IF(OR(A13="",E13="",G13="Fertig"),"",IFERROR(VLOOKUP(E13,Parameter!$D$2:$E$4,2,FALSE),"")) | K13: =IF(OR(A13="",G13="Fertig"),"",IFERROR(MIN(100,IF(F13="",0,F13)*100/Parameter!$B$7),"")) | L13: =IF(OR(A13="",D13="",E13="",G13="Fertig"),"",IFERROR((I13*Parameter!$B$4+J13*Parameter!$B$5+K13*Parameter!$B$6)/SUM(Parameter!$B$4:$B$6),"")) | M13: =IF(L13="","",IFERROR(RANK(L13,$L$2:$L$151,0)+COUNTIF($L$2:L13,L13)-1,"")) | N13: =IF(A13="","",IF(G13="Fertig","Abgeschlossen",IF(OR(D13="",E13="",M13=""),"Angaben ergänzen",IF(M13<=5,"Zuerst fertigen","Nach Rang einplanen"))))
H14: =IF(OR(A14="",D14="",G14="Fertig"),"",MAX(0,Parameter!$B$2-D14)) | I14: =IF(OR(A14="",D14="",G14="Fertig"),"",IFERROR(IF(D14<=Parameter!$B$2,100,MAX(0,100-(D14-Parameter!$B$2)*100/Parameter!$B$3)),"")) | J14: =IF(OR(A14="",E14="",G14="Fertig"),"",IFERROR(VLOOKUP(E14,Parameter!$D$2:$E$4,2,FALSE),"")) | K14: =IF(OR(A14="",G14="Fertig"),"",IFERROR(MIN(100,IF(F14="",0,F14)*100/Parameter!$B$7),"")) | L14: =IF(OR(A14="",D14="",E14="",G14="Fertig"),"",IFERROR((I14*Parameter!$B$4+J14*Parameter!$B$5+K14*Parameter!$B$6)/SUM(Parameter!$B$4:$B$6),"")) | M14: =IF(L14="","",IFERROR(RANK(L14,$L$2:$L$151,0)+COUNTIF($L$2:L14,L14)-1,"")) | N14: =IF(A14="","",IF(G14="Fertig","Abgeschlossen",IF(OR(D14="",E14="",M14=""),"Angaben ergänzen",IF(M14<=5,"Zuerst fertigen","Nach Rang einplanen"))))
H15: =IF(OR(A15="",D15="",G15="Fertig"),"",MAX(0,Parameter!$B$2-D15)) | I15: =IF(OR(A15="",D15="",G15="Fertig"),"",IFERROR(IF(D15<=Parameter!$B$2,100,MAX(0,100-(D15-Parameter!$B$2)*100/Parameter!$B$3)),"")) | J15: =IF(OR(A15="",E15="",G15="Fertig"),"",IFERROR(VLOOKUP(E15,Parameter!$D$2:$E$4,2,FALSE),"")) | K15: =IF(OR(A15="",G15="Fertig"),"",IFERROR(MIN(100,IF(F15="",0,F15)*100/Parameter!$B$7),"")) | L15: =IF(OR(A15="",D15="",E15="",G15="Fertig"),"",IFERROR((I15*Parameter!$B$4+J15*Parameter!$B$5+K15*Parameter!$B$6)/SUM(Parameter!$B$4:$B$6),"")) | M15: =IF(L15="","",IFERROR(RANK(L15,$L$2:$L$151,0)+COUNTIF($L$2:L15,L15)-1,"")) | N15: =IF(A15="","",IF(G15="Fertig","Abgeschlossen",IF(OR(D15="",E15="",M15=""),"Angaben ergänzen",IF(M15<=5,"Zuerst fertigen","Nach Rang einplanen"))))
H16: =IF(OR(A16="",D16="",G16="Fertig"),"",MAX(0,Parameter!$B$2-D16)) | I16: =IF(OR(A16="",D16="",G16="Fertig"),"",IFERROR(IF(D16<=Parameter!$B$2,100,MAX(0,100-(D16-Parameter!$B$2)*100/Parameter!$B$3)),"")) | J16: =IF(OR(A16="",E16="",G16="Fertig"),"",IFERROR(VLOOKUP(E16,Parameter!$D$2:$E$4,2,FALSE),"")) | K16: =IF(OR(A16="",G16="Fertig"),"",IFERROR(MIN(100,IF(F16="",0,F16)*100/Parameter!$B$7),"")) | L16: =IF(OR(A16="",D16="",E16="",G16="Fertig"),"",IFERROR((I16*Parameter!$B$4+J16*Parameter!$B$5+K16*Parameter!$B$6)/SUM(Parameter!$B$4:$B$6),"")) | M16: =IF(L16="","",IFERROR(RANK(L16,$L$2:$L$151,0)+COUNTIF($L$2:L16,L16)-1,"")) | N16: =IF(A16="","",IF(G16="Fertig","Abgeschlossen",IF(OR(D16="",E16="",M16=""),"Angaben ergänzen",IF(M16<=5,"Zuerst fertigen","Nach Rang einplanen"))))
H17: =IF(OR(A17="",D17="",G17="Fertig"),"",MAX(0,Parameter!$B$2-D17)) | I17: =IF(OR(A17="",D17="",G17="Fertig"),"",IFERROR(IF(D17<=Parameter!$B$2,100,MAX(0,100-(D17-Parameter!$B$2)*100/Parameter!$B$3)),"")) | J17: =IF(OR(A17="",E17="",G17="Fertig"),"",IFERROR(VLOOKUP(E17,Parameter!$D$2:$E$4,2,FALSE),"")) | K17: =IF(OR(A17="",G17="Fertig"),"",IFERROR(MIN(100,IF(F17="",0,F17)*100/Parameter!$B$7),"")) | L17: =IF(OR(A17="",D17="",E17="",G17="Fertig"),"",IFERROR((I17*Parameter!$B$4+J17*Parameter!$B$5+K17*Parameter!$B$6)/SUM(Parameter!$B$4:$B$6),"")) | M17: =IF(L17="","",IFERROR(RANK(L17,$L$2:$L$151,0)+COUNTIF($L$2:L17,L17)-1,"")) | N17: =IF(A17="","",IF(G17="Fertig","Abgeschlossen",IF(OR(D17="",E17="",M17=""),"Angaben ergänzen",IF(M17<=5,"Zuerst fertigen","Nach Rang einplanen"))))
H18: =IF(OR(A18="",D18="",G18="Fertig"),"",MAX(0,Parameter!$B$2-D18)) | I18: =IF(OR(A18="",D18="",G18="Fertig"),"",IFERROR(IF(D18<=Parameter!$B$2,100,MAX(0,100-(D18-Parameter!$B$2)*100/Parameter!$B$3)),"")) | J18: =IF(OR(A18="",E18="",G18="Fertig"),"",IFERROR(VLOOKUP(E18,Parameter!$D$2:$E$4,2,FALSE),"")) | K18: =IF(OR(A18="",G18="Fertig"),"",IFERROR(MIN(100,IF(F18="",0,F18)*100/Parameter!$B$7),"")) | L18: =IF(OR(A18="",D18="",E18="",G18="Fertig"),"",IFERROR((I18*Parameter!$B$4+J18*Parameter!$B$5+K18*Parameter!$B$6)/SUM(Parameter!$B$4:$B$6),"")) | M18: =IF(L18="","",IFERROR(RANK(L18,$L$2:$L$151,0)+COUNTIF($L$2:L18,L18)-1,"")) | N18: =IF(A18="","",IF(G18="Fertig","Abgeschlossen",IF(OR(D18="",E18="",M18=""),"Angaben ergänzen",IF(M18<=5,"Zuerst fertigen","Nach Rang einplanen"))))
H19: =IF(OR(A19="",D19="",G19="Fertig"),"",MAX(0,Parameter!$B$2-D19)) | I19: =IF(OR(A19="",D19="",G19="Fertig"),"",IFERROR(IF(D19<=Parameter!$B$2,100,MAX(0,100-(D19-Parameter!$B$2)*100/Parameter!$B$3)),"")) | J19: =IF(OR(A19="",E19="",G19="Fertig"),"",IFERROR(VLOOKUP(E19,Parameter!$D$2:$E$4,2,FALSE),"")) | K19: =IF(OR(A19="",G19="Fertig"),"",IFERROR(MIN(100,IF(F19="",0,F19)*100/Parameter!$B$7),"")) | L19: =IF(OR(A19="",D19="",E19="",G19="Fertig"),"",IFERROR((I19*Parameter!$B$4+J19*Parameter!$B$5+K19*Parameter!$B$6)/SUM(Parameter!$B$4:$B$6),"")) | M19: =IF(L19="","",IFERROR(RANK(L19,$L$2:$L$151,0)+COUNTIF($L$2:L19,L19)-1,"")) | N19: =IF(A19="","",IF(G19="Fertig","Abgeschlossen",IF(OR(D19="",E19="",M19=""),"Angaben ergänzen",IF(M19<=5,"Zuerst fertigen","Nach Rang einplanen"))))
H20: =IF(OR(A20="",D20="",G20="Fertig"),"",MAX(0,Parameter!$B$2-D20)) | I20: =IF(OR(A20="",D20="",G20="Fertig"),"",IFERROR(IF(D20<=Parameter!$B$2,100,MAX(0,100-(D20-Parameter!$B$2)*100/Parameter!$B$3)),"")) | J20: =IF(OR(A20="",E20="",G20="Fertig"),"",IFERROR(VLOOKUP(E20,Parameter!$D$2:$E$4,2,FALSE),"")) | K20: =IF(OR(A20="",G20="Fertig"),"",IFERROR(MIN(100,IF(F20="",0,F20)*100/Parameter!$B$7),"")) | L20: =IF(OR(A20="",D20="",E20="",G20="Fertig"),"",IFERROR((I20*Parameter!$B$4+J20*Parameter!$B$5+K20*Parameter!$B$6)/SUM(Parameter!$B$4:$B$6),"")) | M20: =IF(L20="","",IFERROR(RANK(L20,$L$2:$L$151,0)+COUNTIF($L$2:L20,L20)-1,"")) | N20: =IF(A20="","",IF(G20="Fertig","Abgeschlossen",IF(OR(D20="",E20="",M20=""),"Angaben ergänzen",IF(M20<=5,"Zuerst fertigen","Nach Rang einplanen"))))
H21: =IF(OR(A21="",D21="",G21="Fertig"),"",MAX(0,Parameter!$B$2-D21)) | I21: =IF(OR(A21="",D21="",G21="Fertig"),"",IFERROR(IF(D21<=Parameter!$B$2,100,MAX(0,100-(D21-Parameter!$B$2)*100/Parameter!$B$3)),"")) | J21: =IF(OR(A21="",E21="",G21="Fertig"),"",IFERROR(VLOOKUP(E21,Parameter!$D$2:$E$4,2,FALSE),"")) | K21: =IF(OR(A21="",G21="Fertig"),"",IFERROR(MIN(100,IF(F21="",0,F21)*100/Parameter!$B$7),"")) | L21: =IF(OR(A21="",D21="",E21="",G21="Fertig"),"",IFERROR((I21*Parameter!$B$4+J21*Parameter!$B$5+K21*Parameter!$B$6)/SUM(Parameter!$B$4:$B$6),"")) | M21: =IF(L21="","",IFERROR(RANK(L21,$L$2:$L$151,0)+COUNTIF($L$2:L21,L21)-1,"")) | N21: =IF(A21="","",IF(G21="Fertig","Abgeschlossen",IF(OR(D21="",E21="",M21=""),"Angaben ergänzen",IF(M21<=5,"Zuerst fertigen","Nach Rang einplanen"))))
H22: =IF(OR(A22="",D22="",G22="Fertig"),"",MAX(0,Parameter!$B$2-D22)) | I22: =IF(OR(A22="",D22="",G22="Fertig"),"",IFERROR(IF(D22<=Parameter!$B$2,100,MAX(0,100-(D22-Parameter!$B$2)*100/Parameter!$B$3)),"")) | J22: =IF(OR(A22="",E22="",G22="Fertig"),"",IFERROR(VLOOKUP(E22,Parameter!$D$2:$E$4,2,FALSE),"")) | K22: =IF(OR(A22="",G22="Fertig"),"",IFERROR(MIN(100,IF(F22="",0,F22)*100/Parameter!$B$7),"")) | L22: =IF(OR(A22="",D22="",E22="",G22="Fertig"),"",IFERROR((I22*Parameter!$B$4+J22*Parameter!$B$5+K22*Parameter!$B$6)/SUM(Parameter!$B$4:$B$6),"")) | M22: =IF(L22="","",IFERROR(RANK(L22,$L$2:$L$151,0)+COUNTIF($L$2:L22,L22)-1,"")) | N22: =IF(A22="","",IF(G22="Fertig","Abgeschlossen",IF(OR(D22="",E22="",M22=""),"Angaben ergänzen",IF(M22<=5,"Zuerst fertigen","Nach Rang einplanen"))))
H23: =IF(OR(A23="",D23="",G23="Fertig"),"",MAX(0,Parameter!$B$2-D23)) | I23: =IF(OR(A23="",D23="",G23="Fertig"),"",IFERROR(IF(D23<=Parameter!$B$2,100,MAX(0,100-(D23-Parameter!$B$2)*100/Parameter!$B$3)),"")) | J23: =IF(OR(A23="",E23="",G23="Fertig"),"",IFERROR(VLOOKUP(E23,Parameter!$D$2:$E$4,2,FALSE),"")) | K23: =IF(OR(A23="",G23="Fertig"),"",IFERROR(MIN(100,IF(F23="",0,F23)*100/Parameter!$B$7),"")) | L23: =IF(OR(A23="",D23="",E23="",G23="Fertig"),"",IFERROR((I23*Parameter!$B$4+J23*Parameter!$B$5+K23*Parameter!$B$6)/SUM(Parameter!$B$4:$B$6),"")) | M23: =IF(L23="","",IFERROR(RANK(L23,$L$2:$L$151,0)+COUNTIF($L$2:L23,L23)-1,"")) | N23: =IF(A23="","",IF(G23="Fertig","Abgeschlossen",IF(OR(D23="",E23="",M23=""),"Angaben ergänzen",IF(M23<=5,"Zuerst fertigen","Nach Rang einplanen"))))
... H151: =IF(OR(A151="",D151="",G151="Fertig"),"",MAX(0,Parameter!$B$2-D151)) | I151: =IF(OR(A151="",D151="",G151="Fertig"),"",IFERROR(IF(D151<=Parameter!$B$2,100,MAX(0,100-(D151-Parameter!$B$2)*100/Parameter!$B$3)),"")) | J151: =IF(OR(A151="",E151="",G151="Fertig"),"",IFERROR(VLOOKUP(E151,Parameter!$D$2:$E$4,2,FALSE),"")) | K151: =IF(OR(A151="",G151="Fertig"),"",IFERROR(MIN(100,IF(F151="",0,F151)*100/Parameter!$B$7),"")) | L151: =IF(OR(A151="",D151="",E151="",G151="Fertig"),"",IFERROR((I151*Parameter!$B$4+J151*Parameter!$B$5+K151*Parameter!$B$6)/SUM(Parameter!$B$4:$B$6),"")) | M151: =IF(L151="","",IFERROR(RANK(L151,$L$2:$L$151,0)+COUNTIF($L$2:L151,L151)-1,"")) | N151: =IF(A151="","",IF(G151="Fertig","Abgeschlossen",IF(OR(D151="",E151="",M151=""),"Angaben ergänzen",IF(M151<=5,"Zuerst fertigen","Nach Rang einplanen"))))

Sheet Parameter
A1: Bewertungsparameter | B1: Wert | D1: Kritikalität | E1: Punkte | G1: Erläuterung
A2: Stichtag | B2: 46273 | D2: Niedrig | E2: 25 | G2: Bewertungsdatum für Verzug und Termindruck.
A3: Planungsfenster (Tage) | B3: 14 | D3: Mittel | E3: 60 | G3: Zeitraum, in dem der Termindruck von 100 auf 0 sinkt.
A4: Gewicht Termin (%) | B4: 50 | D4: Hoch | E4: 100 | G4: Anteil des Termindrucks am Prioritätswert.
A5: Gewicht Kritikalität (%) | B5: 30 | G5: Anteil der fachlich vergebenen Kritikalität.
A6: Gewicht Pönale (%) | B6: 20 | G6: Anteil des optionalen Pönale-Planwerts.
A7: Pönalen-Referenzwert | B7: 1000 | G7: Planwert, bei dem 100 Pönalenpunkte erreicht werden.
A9: Parameterkontrolle | B9: =IF(AND(SUM(B4:B6)=100,B3>0,B7>0),"OK","Parameter prüfen") | G9: Die Kontrolle warnt bei einer Gewichtssumme ungleich 100 sowie bei ungültigem Planungsfenster oder Referenzwert.
A11: Hinweise zur Anwendung
G12: Niedrige Rangnummern werden zuerst zur Fertigung eingeplant.
G13: Ein leerer Pönale-Planwert wird mit null Punkten berücksichtigt.
G14: Fehlender Termin oder fehlende Kritikalität verhindert Prioritätswert und Rang.
G15: Materialverfügbarkeit, Kapazität, Rüstfolge und technische Machbarkeit sind manuell zu prüfen.
G16: Die Bewertung ist keine Feinplanung und keine Auftragsfortschritts-, Kosten- oder Personaleinsatzdokumentation.
G17: Pönale-Werte sind ausschließlich interne Planungsannahmen und begründen keine rechtliche Aussage.
